|SUCCESS| [GIT MASTER] 33d66940e9bab36bae88cf4e1b09f53fe60cd44d
dpdklab at iol.unh.edu
dpdklab at iol.unh.edu
Fri Aug 4 21:49:15 CEST 2023
_Testing PASS_
Branch: dpdk
33d66940e9bab36bae88cf4e1b09f53fe60cd44d --> testing pass
Test environment and result as below:
+------------------+----------------------------------+
| Environment | dpdk_kmod_compile_torvalds_linux |
+==================+==================================+
| Debian Buster | PASS |
+------------------+----------------------------------+
| Debian Bullseye | PASS |
+------------------+----------------------------------+
| openSUSE Leap 15 | PASS |
+------------------+----------------------------------+
| Ubuntu 20.04 | PASS |
+------------------+----------------------------------+
| Arch Linux | PASS |
+------------------+----------------------------------+
| CentOS Stream 9 | PASS |
+------------------+----------------------------------+
| CentOS Stream 8 | PASS |
+------------------+----------------------------------+
| RHEL8 | PASS |
+------------------+----------------------------------+
| Ubuntu 22.04 | PASS |
+------------------+----------------------------------+
Debian Buster
Kernel: 5.4.0-122-generic
Compiler: gcc 8.3.0-6
Debian Bullseye
Kernel: 5.4.0-122-generic
Compiler: gcc 10.2.1-6
openSUSE Leap 15
Kernel: 4.18.0-240.10.1.el8_3.x86_64
Compiler: gcc 7.5.0
Ubuntu 20.04
Kernel: 5.4.0-153-generic
Compiler: gcc 9.4.0-1ubuntu1~20.04.1
Arch Linux
Kernel: 5.4.0-73-generic
Compiler: gcc 11.1.0
CentOS Stream 9
Kernel: 4.18.0-240.10.1.el8_3.x86_64
Compiler: gcc 11.3.1 20220421
CentOS Stream 8
Kernel: 4.18.0-240.10.1.el8_3.x86_64
Compiler: gcc 8.4.1 20200928
RHEL8
Kernel: 4.18.0-240.10.1.el8_3.x86_64
Compiler: gcc 8.3.1 20191121 (Red Hat 8.3.1-5)
Ubuntu 22.04
Kernel: 4.18.0-240.10.1.el8_3.x86_64
Compiler: gcc 11.3.0
To view detailed results, visit:
https://lab.dpdk.org/results/dashboard/tarballs/25702/
UNH-IOL DPDK Community Lab
To manage your email subscriptions, visit:
https://lab.dpdk.org/results/dashboard/preferences/subscriptions/
More information about the test-report
mailing list