|SUCCESS| [GIT MASTER] 9836014d4c2b1b2c29948c928fd386b2944b6bcf

dpdklab at iol.unh.edu dpdklab at iol.unh.edu
Tue Aug 8 04:08:03 CEST 2023


_Testing PASS_

Branch: dpdk

9836014d4c2b1b2c29948c928fd386b2944b6bcf --> testing pass

Test environment and result as below:

+------------------+----------------------------------+
|   Environment    | dpdk_kmod_compile_torvalds_linux |
+==================+==================================+
| CentOS Stream 9  | PASS                             |
+------------------+----------------------------------+
| Ubuntu 20.04     | PASS                             |
+------------------+----------------------------------+
| openSUSE Leap 15 | PASS                             |
+------------------+----------------------------------+
| Ubuntu 22.04     | PASS                             |
+------------------+----------------------------------+
| Arch Linux       | PASS                             |
+------------------+----------------------------------+
| Debian Bullseye  | PASS                             |
+------------------+----------------------------------+
| Debian Buster    | PASS                             |
+------------------+----------------------------------+
| RHEL8            | PASS                             |
+------------------+----------------------------------+
| CentOS Stream 8  | PASS                             |
+------------------+----------------------------------+


CentOS Stream 9
	Kernel: 4.18.0-240.10.1.el8_3.x86_64
	Compiler: gcc 11.3.1 20220421

Ubuntu 20.04
	Kernel: 5.4.0-153-generic
	Compiler: gcc 9.4.0-1ubuntu1~20.04.1

openSUSE Leap 15
	Kernel: 4.18.0-240.10.1.el8_3.x86_64
	Compiler: gcc 7.5.0

Ubuntu 22.04
	Kernel: 4.18.0-240.10.1.el8_3.x86_64
	Compiler: gcc 11.3.0

Arch Linux
	Kernel: 5.4.0-73-generic
	Compiler: gcc 11.1.0

Debian Bullseye
	Kernel: 5.4.0-122-generic
	Compiler: gcc 10.2.1-6

Debian Buster
	Kernel: 5.4.0-122-generic
	Compiler: gcc 8.3.0-6

RHEL8
	Kernel: 4.18.0-240.10.1.el8_3.x86_64
	Compiler: gcc 8.3.1 20191121 (Red Hat 8.3.1-5)

CentOS Stream 8
	Kernel: 4.18.0-240.10.1.el8_3.x86_64
	Compiler: gcc 8.4.1 20200928

To view detailed results, visit:
https://lab.dpdk.org/results/dashboard/tarballs/25729/

UNH-IOL DPDK Community Lab

To manage your email subscriptions, visit: 
https://lab.dpdk.org/results/dashboard/preferences/subscriptions/


More information about the test-report mailing list