|SUCCESS| pw130049 [PATCH] net/bonding: Fix header for C++

dpdklab at iol.unh.edu dpdklab at iol.unh.edu
Thu Aug 10 16:31:06 CEST 2023


Test-Label: iol-unit-arm64-testing
Test-Status: SUCCESS
http://dpdk.org/patch/130049

_Testing PASS_

Submitter: Visa Hankala <visa at hankala.org>
Date: Wednesday, August 09 2023 15:52:41 
DPDK git baseline: Repo:dpdk
  Branch: master
  CommitID:70b6941e4e22d67bc10495d1638234a7e974f582

130049 --> testing pass

Test environment and result as below:

+--------------------------+----------------+---------------------------+
|       Environment        | dpdk_unit_test | cryptodev_sw_zuc_autotest |
+==========================+================+===========================+
| Windows Server 2019      | PASS           | SKIPPED                   |
+--------------------------+----------------+---------------------------+
| Debian Bullseye          | PASS           | SKIPPED                   |
+--------------------------+----------------+---------------------------+
| CentOS Stream 9 (ARM)    | PASS           | SKIPPED                   |
+--------------------------+----------------+---------------------------+
| Fedora 37 (ARM)          | PASS           | SKIPPED                   |
+--------------------------+----------------+---------------------------+
| Debian 11 (Buster) (ARM) | PASS           | SKIPPED                   |
+--------------------------+----------------+---------------------------+
| Debian Buster            | PASS           | SKIPPED                   |
+--------------------------+----------------+---------------------------+
| CentOS Stream 9          | PASS           | SKIPPED                   |
+--------------------------+----------------+---------------------------+
| Fedora 38 (ARM)          | PASS           | SKIPPED                   |
+--------------------------+----------------+---------------------------+
| Debian 11                | SKIPPED        | PASS                      |
+--------------------------+----------------+---------------------------+


Windows Server 2019
	Kernel: 10.0
	Compiler: clang 14.0 and gcc 8.1.0 (MinGW)

Debian Bullseye
	Kernel: 5.4.0-122-generic
	Compiler: gcc 10.2.1-6

CentOS Stream 9 (ARM)
	Kernel: Container Host Kernel
	Compiler: gcc 11.3.1

Fedora 37 (ARM)
	Kernel: Depends on container host
	Compiler: gcc 12.3.1

Debian 11 (Buster) (ARM)
	Kernel: Container Host Kernel
	Compiler: gcc 10.2.1

Debian Buster
	Kernel: 5.4.0-122-generic
	Compiler: gcc 8.3.0-6

CentOS Stream 9
	Kernel: 4.18.0-240.10.1.el8_3.x86_64
	Compiler: gcc 11.3.1 20220421

Fedora 38 (ARM)
	Kernel: Depends on container host
	Compiler: gcc 13.1.1

Debian 11
	Kernel: Container Host Kernel
	Compiler: gcc 10.2.1

To view detailed results, visit:
https://lab.dpdk.org/results/dashboard/patchsets/27267/

UNH-IOL DPDK Community Lab

To manage your email subscriptions, visit: 
https://lab.dpdk.org/results/dashboard/preferences/subscriptions/


More information about the test-report mailing list