|SUCCESS| pw130033-130037 [PATCH] [5/5] net/mlx5: add support for it
dpdklab at iol.unh.edu
dpdklab at iol.unh.edu
Thu Aug 10 19:21:51 CEST 2023
Test-Label: iol-unit-arm64-testing
Test-Status: SUCCESS
http://dpdk.org/patch/130037
_Testing PASS_
Submitter: Haifei Luo <haifeil at nvidia.com>
Date: Wednesday, August 09 2023 07:40:46
DPDK git baseline: Repo:dpdk
Branch: master
CommitID:70b6941e4e22d67bc10495d1638234a7e974f582
130033-130037 --> testing pass
Test environment and result as below:
+--------------------------+---------------------------+------------------------------+----------------+
| Environment | cryptodev_sw_zuc_autotest | cryptodev_sw_snow3g_autotest | dpdk_unit_test |
+==========================+===========================+==============================+================+
| Debian 11 | PASS | PASS | SKIPPED |
+--------------------------+---------------------------+------------------------------+----------------+
| Debian 11 (Buster) (ARM) | SKIPPED | SKIPPED | PASS |
+--------------------------+---------------------------+------------------------------+----------------+
| CentOS Stream 9 (ARM) | SKIPPED | SKIPPED | PASS |
+--------------------------+---------------------------+------------------------------+----------------+
| Fedora 38 (ARM) | SKIPPED | SKIPPED | PASS |
+--------------------------+---------------------------+------------------------------+----------------+
Debian 11
Kernel: Container Host Kernel
Compiler: gcc 10.2.1
Debian 11 (Buster) (ARM)
Kernel: Container Host Kernel
Compiler: gcc 10.2.1
CentOS Stream 9 (ARM)
Kernel: Container Host Kernel
Compiler: gcc 11.3.1
Fedora 38 (ARM)
Kernel: Depends on container host
Compiler: gcc 13.1.1
To view detailed results, visit:
https://lab.dpdk.org/results/dashboard/patchsets/27260/
UNH-IOL DPDK Community Lab
To manage your email subscriptions, visit:
https://lab.dpdk.org/results/dashboard/preferences/subscriptions/
More information about the test-report
mailing list