|SUCCESS| pw130087 [PATCH] app/test: validate shorter private key in

dpdklab at iol.unh.edu dpdklab at iol.unh.edu
Thu Aug 10 21:15:08 CEST 2023


Test-Label: iol-unit-arm64-testing
Test-Status: SUCCESS
http://dpdk.org/patch/130087

_Testing PASS_

Submitter: Gowrishankar Muthukrishnan <gmuthukrishn at marvell.com>
Date: Thursday, August 10 2023 13:14:21 
DPDK git baseline: Repo:dpdk
  Branch: master
  CommitID:70b6941e4e22d67bc10495d1638234a7e974f582

130087 --> testing pass

Test environment and result as below:

+-----------------------------+------------------------------+---------------------------+----------------+
|         Environment         | cryptodev_sw_snow3g_autotest | cryptodev_sw_zuc_autotest | dpdk_unit_test |
+=============================+==============================+===========================+================+
| Debian 11                   | PASS                         | PASS                      | SKIPPED        |
+-----------------------------+------------------------------+---------------------------+----------------+
| CentOS Stream 9 (ARM)       | SKIPPED                      | SKIPPED                   | PASS           |
+-----------------------------+------------------------------+---------------------------+----------------+
| Debian 11 (Buster) (ARM)    | SKIPPED                      | SKIPPED                   | PASS           |
+-----------------------------+------------------------------+---------------------------+----------------+
| Fedora 37 (ARM)             | SKIPPED                      | SKIPPED                   | PASS           |
+-----------------------------+------------------------------+---------------------------+----------------+
| Fedora 38 (ARM)             | SKIPPED                      | SKIPPED                   | PASS           |
+-----------------------------+------------------------------+---------------------------+----------------+
| Ubuntu 20.04 (ARM)          | SKIPPED                      | SKIPPED                   | PASS           |
+-----------------------------+------------------------------+---------------------------+----------------+
| Fedora 38 (ARM Clang)       | SKIPPED                      | SKIPPED                   | PASS           |
+-----------------------------+------------------------------+---------------------------+----------------+
| (32-bit) ARM Ubuntu 20.04.4 | SKIPPED                      | SKIPPED                   | PASS           |
+-----------------------------+------------------------------+---------------------------+----------------+


Debian 11
	Kernel: Container Host Kernel
	Compiler: gcc 10.2.1

CentOS Stream 9 (ARM)
	Kernel: Container Host Kernel
	Compiler: gcc 11.3.1

Debian 11 (Buster) (ARM)
	Kernel: Container Host Kernel
	Compiler: gcc 10.2.1

Fedora 37 (ARM)
	Kernel: Depends on container host
	Compiler: gcc 12.3.1

Fedora 38 (ARM)
	Kernel: Depends on container host
	Compiler: gcc 13.1.1

Ubuntu 20.04 (ARM)
	Kernel: Container Host Kernel
	Compiler: gcc 9.4.0

Fedora 38 (ARM Clang)
	Kernel: Depends on container host
	Compiler: clang 16.0.3

(32-bit) ARM Ubuntu 20.04.4
	Kernel: 5.4.0-148-generic aarch64
	Compiler: gcc 9.4

To view detailed results, visit:
https://lab.dpdk.org/results/dashboard/patchsets/27280/

UNH-IOL DPDK Community Lab

To manage your email subscriptions, visit: 
https://lab.dpdk.org/results/dashboard/preferences/subscriptions/


More information about the test-report mailing list