|SUCCESS| pw130162 [PATCH] common/qat: enable gen4 c devices

dpdklab at iol.unh.edu dpdklab at iol.unh.edu
Fri Aug 11 18:46:01 CEST 2023


Test-Label: iol-unit-arm64-testing
Test-Status: SUCCESS
http://dpdk.org/patch/130162

_Testing PASS_

Submitter: Ciara Power <ciara.power at intel.com>
Date: Friday, August 11 2023 12:38:33 
DPDK git baseline: Repo:dpdk
  Branch: master
  CommitID:70b6941e4e22d67bc10495d1638234a7e974f582

130162 --> testing pass

Test environment and result as below:

+-----------------------------+----------------+---------------------------+------------------------------+
|         Environment         | dpdk_unit_test | cryptodev_sw_zuc_autotest | cryptodev_sw_snow3g_autotest |
+=============================+================+===========================+==============================+
| Fedora 37 (ARM)             | PASS           | SKIPPED                   | SKIPPED                      |
+-----------------------------+----------------+---------------------------+------------------------------+
| Debian 11 (Buster) (ARM)    | PASS           | SKIPPED                   | SKIPPED                      |
+-----------------------------+----------------+---------------------------+------------------------------+
| Fedora 38 (ARM)             | PASS           | SKIPPED                   | SKIPPED                      |
+-----------------------------+----------------+---------------------------+------------------------------+
| CentOS Stream 9 (ARM)       | PASS           | SKIPPED                   | SKIPPED                      |
+-----------------------------+----------------+---------------------------+------------------------------+
| Ubuntu 20.04 (ARM)          | PASS           | SKIPPED                   | SKIPPED                      |
+-----------------------------+----------------+---------------------------+------------------------------+
| 32-bit Ubuntu 20.04.4 (ARM) | PASS           | SKIPPED                   | SKIPPED                      |
+-----------------------------+----------------+---------------------------+------------------------------+
| Debian 11 (arm)             | SKIPPED        | PASS                      | PASS                         |
+-----------------------------+----------------+---------------------------+------------------------------+


Fedora 37 (ARM)
	Kernel: Depends on container host
	Compiler: gcc 12.3.1

Debian 11 (Buster) (ARM)
	Kernel: Container Host Kernel
	Compiler: gcc 10.2.1

Fedora 38 (ARM)
	Kernel: Depends on container host
	Compiler: gcc 13.1.1

CentOS Stream 9 (ARM)
	Kernel: Container Host Kernel
	Compiler: gcc 11.3.1

Ubuntu 20.04 (ARM)
	Kernel: Container Host Kernel
	Compiler: gcc 9.4.0

32-bit Ubuntu 20.04.4 (ARM)
	Kernel: 5.4.0-148-generic aarch64
	Compiler: gcc 9.4

Debian 11 (arm)
	Kernel: Container Host Kernel
	Compiler: gcc 10.2.1

To view detailed results, visit:
https://lab.dpdk.org/results/dashboard/patchsets/27305/

UNH-IOL DPDK Community Lab

To manage your email subscriptions, visit: 
https://lab.dpdk.org/results/dashboard/preferences/subscriptions/


More information about the test-report mailing list