|SUCCESS| [GIT MASTER] 68150b90bda5e8f81ad1b1bad82be653b1d42a81

dpdklab at iol.unh.edu dpdklab at iol.unh.edu
Sun Aug 13 03:17:49 CEST 2023


_Testing PASS_

Branch: dpdk

68150b90bda5e8f81ad1b1bad82be653b1d42a81 --> testing pass

Test environment and result as below:

+-----------------------------+---------------------------+------------------------------+----------------+
|         Environment         | cryptodev_sw_zuc_autotest | cryptodev_sw_snow3g_autotest | dpdk_unit_test |
+=============================+===========================+==============================+================+
| Debian 11 (arm)             | PASS                      | PASS                         | SKIPPED        |
+-----------------------------+---------------------------+------------------------------+----------------+
| Fedora 37 (ARM)             | SKIPPED                   | SKIPPED                      | PASS           |
+-----------------------------+---------------------------+------------------------------+----------------+
| CentOS Stream 9 (ARM)       | SKIPPED                   | SKIPPED                      | PASS           |
+-----------------------------+---------------------------+------------------------------+----------------+
| Debian 11 (Buster) (ARM)    | SKIPPED                   | SKIPPED                      | PASS           |
+-----------------------------+---------------------------+------------------------------+----------------+
| Fedora 38 (ARM)             | SKIPPED                   | SKIPPED                      | PASS           |
+-----------------------------+---------------------------+------------------------------+----------------+
| Ubuntu 20.04 (ARM)          | SKIPPED                   | SKIPPED                      | PASS           |
+-----------------------------+---------------------------+------------------------------+----------------+
| 32-bit Ubuntu 20.04.4 (ARM) | SKIPPED                   | SKIPPED                      | PASS           |
+-----------------------------+---------------------------+------------------------------+----------------+


Debian 11 (arm)
	Kernel: Container Host Kernel
	Compiler: gcc 10.2.1

Fedora 37 (ARM)
	Kernel: Depends on container host
	Compiler: gcc 12.3.1

CentOS Stream 9 (ARM)
	Kernel: Container Host Kernel
	Compiler: gcc 11.3.1

Debian 11 (Buster) (ARM)
	Kernel: Container Host Kernel
	Compiler: gcc 10.2.1

Fedora 38 (ARM)
	Kernel: Depends on container host
	Compiler: gcc 13.1.1

Ubuntu 20.04 (ARM)
	Kernel: Container Host Kernel
	Compiler: gcc 9.4.0

32-bit Ubuntu 20.04.4 (ARM)
	Kernel: 5.4.0-148-generic aarch64
	Compiler: gcc 9.4

To view detailed results, visit:
https://lab.dpdk.org/results/dashboard/tarballs/25800/

UNH-IOL DPDK Community Lab

To manage your email subscriptions, visit: 
https://lab.dpdk.org/results/dashboard/preferences/subscriptions/


More information about the test-report mailing list