|SUCCESS| [GIT MASTER] 89133ca5b161036ace8fee04dd39ca94533fffc9

dpdklab at iol.unh.edu dpdklab at iol.unh.edu
Tue Aug 15 10:23:16 CEST 2023


_Testing PASS_

Branch: tags/v21.11

89133ca5b161036ace8fee04dd39ca94533fffc9 --> testing pass

Test environment and result as below:

+---------------------+----------------+
|     Environment     | dpdk_unit_test |
+=====================+================+
| Windows Server 2019 | PASS           |
+---------------------+----------------+
| Debian Bullseye     | PASS           |
+---------------------+----------------+
| Fedora 38           | PASS           |
+---------------------+----------------+


Windows Server 2019
	Kernel: 10.0
	Compiler: clang 14.0 and gcc 8.1.0 (MinGW)

Debian Bullseye
	Kernel: 5.4.0-122-generic
	Compiler: gcc 10.2.1-6

Fedora 38
	Kernel: Depends on container host
	Compiler: gcc 13.1.1

To view detailed results, visit:
https://lab.dpdk.org/results/dashboard/tarballs/25823/

UNH-IOL DPDK Community Lab

To manage your email subscriptions, visit: 
https://lab.dpdk.org/results/dashboard/preferences/subscriptions/


More information about the test-report mailing list