|SUCCESS| pw130334 [PATCH] [v1,1/3] ethdev: introduce maximum Rx buf
dpdklab at iol.unh.edu
dpdklab at iol.unh.edu
Tue Aug 15 16:41:06 CEST 2023
Test-Label: iol-compile-amd64-testing
Test-Status: SUCCESS
http://dpdk.org/patch/130334
_Testing PASS_
Submitter: Huisong Li <lihuisong at huawei.com>
Date: Tuesday, August 15 2023 11:10:32
DPDK git baseline: Repo:dpdk
Branch: master
CommitID:68150b90bda5e8f81ad1b1bad82be653b1d42a81
130334 --> testing pass
Test environment and result as below:
+---------------------+----------------------+--------------------+
| Environment | dpdk_mingw64_compile | dpdk_meson_compile |
+=====================+======================+====================+
| Windows Server 2019 | PASS | PASS |
+---------------------+----------------------+--------------------+
| FreeBSD 13 | SKIPPED | PASS |
+---------------------+----------------------+--------------------+
| Debian Bullseye | SKIPPED | PASS |
+---------------------+----------------------+--------------------+
| Fedora 37 | SKIPPED | PASS |
+---------------------+----------------------+--------------------+
| CentOS Stream 9 | SKIPPED | PASS |
+---------------------+----------------------+--------------------+
| Debian Buster | SKIPPED | PASS |
+---------------------+----------------------+--------------------+
| openSUSE Leap 15 | SKIPPED | PASS |
+---------------------+----------------------+--------------------+
| CentOS Stream 8 | SKIPPED | PASS |
+---------------------+----------------------+--------------------+
| Ubuntu 22.04 | SKIPPED | PASS |
+---------------------+----------------------+--------------------+
| Fedora 38 | SKIPPED | PASS |
+---------------------+----------------------+--------------------+
| Alpine | SKIPPED | PASS |
+---------------------+----------------------+--------------------+
Windows Server 2019
Kernel: 10.0
Compiler: clang 14.0 and gcc 8.1.0 (MinGW)
FreeBSD 13
Kernel: 13.0
Compiler: clang 11.0.1
Debian Bullseye
Kernel: 5.4.0-122-generic
Compiler: gcc 10.2.1-6
Fedora 37
Kernel: Depends on container host system
Compiler: gcc 12.3.1
CentOS Stream 9
Kernel: 4.18.0-240.10.1.el8_3.x86_64
Compiler: gcc 11.3.1 20220421
Debian Buster
Kernel: 5.4.0-122-generic
Compiler: gcc 8.3.0-6
openSUSE Leap 15
Kernel: 4.18.0-240.10.1.el8_3.x86_64
Compiler: gcc 7.5.0
CentOS Stream 8
Kernel: 4.18.0-240.10.1.el8_3.x86_64
Compiler: gcc 8.4.1 20200928
Ubuntu 22.04
Kernel: 4.18.0-240.10.1.el8_3.x86_64
Compiler: gcc 11.3.0
Fedora 38
Kernel: Depends on container host
Compiler: clang 16.0.3
Alpine
Kernel: 5.4.0-73-generic
Compiler: gcc (Alpine 10.3.1_git20210424) 10.3.1 20210424
To view detailed results, visit:
https://lab.dpdk.org/results/dashboard/patchsets/27342/
UNH-IOL DPDK Community Lab
To manage your email subscriptions, visit:
https://lab.dpdk.org/results/dashboard/preferences/subscriptions/
More information about the test-report
mailing list