|SUCCESS| pw130388-130389 [PATCH] [v5,2/2] net/bonding: replace mast

dpdklab at iol.unh.edu dpdklab at iol.unh.edu
Wed Aug 16 09:15:36 CEST 2023


Test-Label: iol-unit-amd64-testing
Test-Status: SUCCESS
http://dpdk.org/patch/130389

_Testing PASS_

Submitter: Chaoyong He <chaoyong.he at corigine.com>
Date: Wednesday, August 16 2023 06:27:10 
DPDK git baseline: Repo:dpdk-next-net
  Branch: master
  CommitID:a13d7d07005a0bd0b37b102b92483d0372e5c04a

130388-130389 --> testing pass

Test environment and result as below:

+---------------------+----------------+
|     Environment     | dpdk_unit_test |
+=====================+================+
| Windows Server 2019 | PASS           |
+---------------------+----------------+
| CentOS Stream 9     | PASS           |
+---------------------+----------------+
| CentOS Stream 8     | PASS           |
+---------------------+----------------+


Windows Server 2019
	Kernel: 10.0
	Compiler: clang 14.0 and gcc 8.1.0 (MinGW)

CentOS Stream 9
	Kernel: 4.18.0-240.10.1.el8_3.x86_64
	Compiler: gcc 11.3.1 20220421

CentOS Stream 8
	Kernel: 4.18.0-240.10.1.el8_3.x86_64
	Compiler: gcc 8.4.1 20200928

To view detailed results, visit:
https://lab.dpdk.org/results/dashboard/patchsets/27349/

UNH-IOL DPDK Community Lab

To manage your email subscriptions, visit: 
https://lab.dpdk.org/results/dashboard/preferences/subscriptions/


More information about the test-report mailing list