|SUCCESS| pw130388-130389 [PATCH] [v5,2/2] net/bonding: replace mast

dpdklab at iol.unh.edu dpdklab at iol.unh.edu
Wed Aug 16 09:31:58 CEST 2023


Test-Label: iol-unit-arm64-testing
Test-Status: SUCCESS
http://dpdk.org/patch/130389

_Testing PASS_

Submitter: Chaoyong He <chaoyong.he at corigine.com>
Date: Wednesday, August 16 2023 06:27:10 
DPDK git baseline: Repo:dpdk-next-net
  Branch: master
  CommitID:a13d7d07005a0bd0b37b102b92483d0372e5c04a

130388-130389 --> testing pass

Test environment and result as below:

+-----------------------------+------------------------------+----------------+
|         Environment         | cryptodev_sw_snow3g_autotest | dpdk_unit_test |
+=============================+==============================+================+
| Debian 11 (arm)             | PASS                         | SKIPPED        |
+-----------------------------+------------------------------+----------------+
| Fedora 37 (ARM)             | SKIPPED                      | PASS           |
+-----------------------------+------------------------------+----------------+
| Debian 11 (Buster) (ARM)    | SKIPPED                      | PASS           |
+-----------------------------+------------------------------+----------------+
| CentOS Stream 9 (ARM)       | SKIPPED                      | PASS           |
+-----------------------------+------------------------------+----------------+
| 32-bit Ubuntu 20.04.4 (ARM) | SKIPPED                      | PASS           |
+-----------------------------+------------------------------+----------------+


Debian 11 (arm)
	Kernel: Container Host Kernel
	Compiler: gcc 10.2.1

Fedora 37 (ARM)
	Kernel: Depends on container host
	Compiler: gcc 12.3.1

Debian 11 (Buster) (ARM)
	Kernel: Container Host Kernel
	Compiler: gcc 10.2.1

CentOS Stream 9 (ARM)
	Kernel: Container Host Kernel
	Compiler: gcc 11.3.1

32-bit Ubuntu 20.04.4 (ARM)
	Kernel: 5.4.0-148-generic aarch64
	Compiler: gcc 9.4

To view detailed results, visit:
https://lab.dpdk.org/results/dashboard/patchsets/27349/

UNH-IOL DPDK Community Lab

To manage your email subscriptions, visit: 
https://lab.dpdk.org/results/dashboard/preferences/subscriptions/


More information about the test-report mailing list