|SUCCESS| pw130403 [PATCH] [v4,1/2] devtools: add check on symbol ma
dpdklab at iol.unh.edu
dpdklab at iol.unh.edu
Wed Aug 16 12:16:31 CEST 2023
Test-Label: iol-compile-amd64-testing
Test-Status: SUCCESS
http://dpdk.org/patch/130403
_Testing PASS_
Submitter: David Marchand <david.marchand at redhat.com>
Date: Wednesday, August 16 2023 07:16:02
DPDK git baseline: Repo:dpdk
Branch: master
CommitID:68150b90bda5e8f81ad1b1bad82be653b1d42a81
130403 --> testing pass
Test environment and result as below:
+-----------------+--------------------+
| Environment | dpdk_meson_compile |
+=================+====================+
| Debian Buster | PASS |
+-----------------+--------------------+
| FreeBSD 13 | PASS |
+-----------------+--------------------+
| RHEL8 | PASS |
+-----------------+--------------------+
| CentOS Stream 9 | PASS |
+-----------------+--------------------+
Debian Buster
Kernel: 5.4.0-122-generic
Compiler: gcc 8.3.0-6
FreeBSD 13
Kernel: 13.0
Compiler: clang 11.0.1
RHEL8
Kernel: 4.18.0-240.10.1.el8_3.x86_64
Compiler: gcc 8.3.1 20191121 (Red Hat 8.3.1-5)
CentOS Stream 9
Kernel: 4.18.0-240.10.1.el8_3.x86_64
Compiler: gcc 11.3.1 20220421
To view detailed results, visit:
https://lab.dpdk.org/results/dashboard/patchsets/27351/
UNH-IOL DPDK Community Lab
To manage your email subscriptions, visit:
https://lab.dpdk.org/results/dashboard/preferences/subscriptions/
More information about the test-report
mailing list