|SUCCESS| pw130414-130416 [PATCH] [8/8] net/ntnic: adds socket conne

dpdklab at iol.unh.edu dpdklab at iol.unh.edu
Wed Aug 16 16:53:26 CEST 2023


Test-Label: iol-unit-arm64-testing
Test-Status: SUCCESS
http://dpdk.org/patch/130416

_Testing PASS_

Submitter: Mykola Kostenok <mko-plv at napatech.com>
Date: Wednesday, August 16 2023 13:25:52 
DPDK git baseline: Repo:dpdk
  Branch: master
  CommitID:68150b90bda5e8f81ad1b1bad82be653b1d42a81

130414-130416 --> testing pass

Test environment and result as below:

+-----------------+------------------------------+---------------------------+----------------+
|   Environment   | cryptodev_sw_snow3g_autotest | cryptodev_sw_zuc_autotest | dpdk_unit_test |
+=================+==============================+===========================+================+
| Debian 11 (arm) | PASS                         | PASS                      | SKIPPED        |
+-----------------+------------------------------+---------------------------+----------------+
| Fedora 37 (ARM) | SKIPPED                      | SKIPPED                   | PASS           |
+-----------------+------------------------------+---------------------------+----------------+
| Fedora 38 (ARM) | SKIPPED                      | SKIPPED                   | PASS           |
+-----------------+------------------------------+---------------------------+----------------+


Debian 11 (arm)
	Kernel: Container Host Kernel
	Compiler: gcc 10.2.1

Fedora 37 (ARM)
	Kernel: Depends on container host
	Compiler: gcc 12.3.1

Fedora 38 (ARM)
	Kernel: Depends on container host
	Compiler: gcc 13.1.1

To view detailed results, visit:
https://lab.dpdk.org/results/dashboard/patchsets/27357/

UNH-IOL DPDK Community Lab

To manage your email subscriptions, visit: 
https://lab.dpdk.org/results/dashboard/preferences/subscriptions/


More information about the test-report mailing list