|SUCCESS| pw130414-130416 [PATCH] [8/8] net/ntnic: adds socket conne
dpdklab at iol.unh.edu
dpdklab at iol.unh.edu
Wed Aug 16 16:58:24 CEST 2023
Test-Label: iol-unit-amd64-testing
Test-Status: SUCCESS
http://dpdk.org/patch/130416
_Testing PASS_
Submitter: Mykola Kostenok <mko-plv at napatech.com>
Date: Wednesday, August 16 2023 13:25:52
DPDK git baseline: Repo:dpdk
Branch: master
CommitID:68150b90bda5e8f81ad1b1bad82be653b1d42a81
130414-130416 --> testing pass
Test environment and result as below:
+---------------------+----------------+
| Environment | dpdk_unit_test |
+=====================+================+
| CentOS Stream 8 | PASS |
+---------------------+----------------+
| Debian Buster | PASS |
+---------------------+----------------+
| CentOS Stream 9 | PASS |
+---------------------+----------------+
| Windows Server 2019 | PASS |
+---------------------+----------------+
| Debian Bullseye | PASS |
+---------------------+----------------+
CentOS Stream 8
Kernel: 4.18.0-240.10.1.el8_3.x86_64
Compiler: gcc 8.4.1 20200928
Debian Buster
Kernel: 5.4.0-122-generic
Compiler: gcc 8.3.0-6
CentOS Stream 9
Kernel: 4.18.0-240.10.1.el8_3.x86_64
Compiler: gcc 11.3.1 20220421
Windows Server 2019
Kernel: 10.0
Compiler: clang 14.0 and gcc 8.1.0 (MinGW)
Debian Bullseye
Kernel: 5.4.0-122-generic
Compiler: gcc 10.2.1-6
To view detailed results, visit:
https://lab.dpdk.org/results/dashboard/patchsets/27357/
UNH-IOL DPDK Community Lab
To manage your email subscriptions, visit:
https://lab.dpdk.org/results/dashboard/preferences/subscriptions/
More information about the test-report
mailing list