|SUCCESS| pw130407 [PATCH] [v2] app/dma-perf: fix physical address s

dpdklab at iol.unh.edu dpdklab at iol.unh.edu
Wed Aug 16 17:31:23 CEST 2023


Test-Label: iol-compile-amd64-testing
Test-Status: SUCCESS
http://dpdk.org/patch/130407

_Testing PASS_

Submitter: Vipin Varghese <vipin.varghese at amd.com>
Date: Wednesday, August 16 2023 09:42:16 
DPDK git baseline: Repo:dpdk
  Branch: master
  CommitID:68150b90bda5e8f81ad1b1bad82be653b1d42a81

130407 --> testing pass

Test environment and result as below:

+------------------+--------------------+
|   Environment    | dpdk_meson_compile |
+==================+====================+
| FreeBSD 13       | PASS               |
+------------------+--------------------+
| CentOS Stream 8  | PASS               |
+------------------+--------------------+
| Fedora 37        | PASS               |
+------------------+--------------------+
| Fedora 38        | PASS               |
+------------------+--------------------+
| CentOS Stream 9  | PASS               |
+------------------+--------------------+
| openSUSE Leap 15 | PASS               |
+------------------+--------------------+


FreeBSD 13
	Kernel: 13.0
	Compiler: clang 11.0.1

CentOS Stream 8
	Kernel: 4.18.0-240.10.1.el8_3.x86_64
	Compiler: gcc 8.4.1 20200928

Fedora 37
	Kernel: Depends on container host system
	Compiler: gcc 12.3.1

Fedora 38
	Kernel: Depends on container host
	Compiler: gcc 13.1.1

CentOS Stream 9
	Kernel: 4.18.0-240.10.1.el8_3.x86_64
	Compiler: gcc 11.3.1 20220421

openSUSE Leap 15
	Kernel: 4.18.0-240.10.1.el8_3.x86_64
	Compiler: gcc 7.5.0

To view detailed results, visit:
https://lab.dpdk.org/results/dashboard/patchsets/27355/

UNH-IOL DPDK Community Lab

To manage your email subscriptions, visit: 
https://lab.dpdk.org/results/dashboard/preferences/subscriptions/


More information about the test-report mailing list