|SUCCESS| pw130447-130446 [PATCH] [v5,4/4] build: enable MSVC specif

dpdklab at iol.unh.edu dpdklab at iol.unh.edu
Thu Aug 17 09:44:55 CEST 2023


Test-Label: iol-compile-arm64-testing
Test-Status: SUCCESS
http://dpdk.org/patch/130446

_Testing PASS_

Submitter: Tyler Retzlaff <roretzla at linux.microsoft.com>
Date: Wednesday, August 16 2023 21:56:16 
DPDK git baseline: Repo:dpdk
  Branch: master
  CommitID:971d2b57972919527e27ed683032a71864a2eb56

130447-130446 --> testing pass

Test environment and result as below:

+----------------------+--------------------+
|     Environment      | dpdk_meson_compile |
+======================+====================+
| Ubuntu 20.04 ARM SVE | PASS               |
+----------------------+--------------------+
| Fedora 37 (ARM)      | PASS               |
+----------------------+--------------------+
| Fedora 38 (ARM)      | PASS               |
+----------------------+--------------------+


Ubuntu 20.04 ARM SVE
	Kernel: 5.4.0-80-generic
	Compiler: gcc 10.3.0 (Ubuntu 10.3.0-1ubuntu1~20.04)

Fedora 37 (ARM)
	Kernel: Depends on container host
	Compiler: gcc 12.3.1

Fedora 38 (ARM)
	Kernel: Depends on container host
	Compiler: gcc 13.1.1

To view detailed results, visit:
https://lab.dpdk.org/results/dashboard/patchsets/27362/

UNH-IOL DPDK Community Lab

To manage your email subscriptions, visit: 
https://lab.dpdk.org/results/dashboard/preferences/subscriptions/


More information about the test-report mailing list