|SUCCESS| pw130474-130472 [PATCH] [v2,8/8] net/ntnic: adds socket co

dpdklab at iol.unh.edu dpdklab at iol.unh.edu
Thu Aug 17 17:55:26 CEST 2023


Test-Label: iol-unit-arm64-testing
Test-Status: SUCCESS
http://dpdk.org/patch/130472

_Testing PASS_

Submitter: Mykola Kostenok <mko-plv at napatech.com>
Date: Thursday, August 17 2023 14:43:12 
DPDK git baseline: Repo:dpdk
  Branch: master
  CommitID:971d2b57972919527e27ed683032a71864a2eb56

130474-130472 --> testing pass

Test environment and result as below:

+--------------------------+------------------------------+----------------+---------------------------+
|       Environment        | cryptodev_sw_snow3g_autotest | dpdk_unit_test | cryptodev_sw_zuc_autotest |
+==========================+==============================+================+===========================+
| Debian 11 (arm)          | PASS                         | SKIPPED        | PASS                      |
+--------------------------+------------------------------+----------------+---------------------------+
| CentOS Stream 9 (ARM)    | SKIPPED                      | PASS           | SKIPPED                   |
+--------------------------+------------------------------+----------------+---------------------------+
| Debian 11 (Buster) (ARM) | SKIPPED                      | PASS           | SKIPPED                   |
+--------------------------+------------------------------+----------------+---------------------------+
| Fedora 37 (ARM)          | SKIPPED                      | PASS           | SKIPPED                   |
+--------------------------+------------------------------+----------------+---------------------------+
| Fedora 38 (ARM)          | SKIPPED                      | PASS           | SKIPPED                   |
+--------------------------+------------------------------+----------------+---------------------------+
| Ubuntu 20.04 (ARM)       | SKIPPED                      | PASS           | SKIPPED                   |
+--------------------------+------------------------------+----------------+---------------------------+


Debian 11 (arm)
	Kernel: Container Host Kernel
	Compiler: gcc 10.2.1

CentOS Stream 9 (ARM)
	Kernel: Container Host Kernel
	Compiler: gcc 11.3.1

Debian 11 (Buster) (ARM)
	Kernel: Container Host Kernel
	Compiler: gcc 10.2.1

Fedora 37 (ARM)
	Kernel: Depends on container host
	Compiler: gcc 12.3.1

Fedora 38 (ARM)
	Kernel: Depends on container host
	Compiler: gcc 13.1.1

Ubuntu 20.04 (ARM)
	Kernel: Container Host Kernel
	Compiler: gcc 9.4.0

To view detailed results, visit:
https://lab.dpdk.org/results/dashboard/patchsets/27370/

UNH-IOL DPDK Community Lab

To manage your email subscriptions, visit: 
https://lab.dpdk.org/results/dashboard/preferences/subscriptions/


More information about the test-report mailing list