|SUCCESS| pw130476 [PATCH] [1/1] hash: add SVE support for bulk key
dpdklab at iol.unh.edu
dpdklab at iol.unh.edu
Thu Aug 17 23:59:51 CEST 2023
Test-Label: iol-unit-arm64-testing
Test-Status: SUCCESS
http://dpdk.org/patch/130476
_Testing PASS_
Submitter: Harjot Singh <Harjot.Singh at arm.com>
Date: Thursday, August 17 2023 21:24:17
DPDK git baseline: Repo:dpdk
Branch: master
CommitID:971d2b57972919527e27ed683032a71864a2eb56
130476 --> testing pass
Test environment and result as below:
+--------------------------+------------------------------+---------------------------+----------------+
| Environment | cryptodev_sw_snow3g_autotest | cryptodev_sw_zuc_autotest | dpdk_unit_test |
+==========================+==============================+===========================+================+
| Debian 11 (arm) | PASS | PASS | SKIPPED |
+--------------------------+------------------------------+---------------------------+----------------+
| Debian 11 (Buster) (ARM) | SKIPPED | SKIPPED | PASS |
+--------------------------+------------------------------+---------------------------+----------------+
Debian 11 (arm)
Kernel: Container Host Kernel
Compiler: gcc 10.2.1
Debian 11 (Buster) (ARM)
Kernel: Container Host Kernel
Compiler: gcc 10.2.1
To view detailed results, visit:
https://lab.dpdk.org/results/dashboard/patchsets/27372/
UNH-IOL DPDK Community Lab
To manage your email subscriptions, visit:
https://lab.dpdk.org/results/dashboard/preferences/subscriptions/
More information about the test-report
mailing list