|SUCCESS| pw130461-130462 [PATCH] [v3,2/2] ethdev: add the check for

dpdklab at iol.unh.edu dpdklab at iol.unh.edu
Fri Aug 18 02:50:06 CEST 2023


Test-Label: iol-unit-arm64-testing
Test-Status: SUCCESS
http://dpdk.org/patch/130462

_Testing PASS_

Submitter: Huisong Li <lihuisong at huawei.com>
Date: Thursday, August 17 2023 08:42:26 
DPDK git baseline: Repo:dpdk
  Branch: master
  CommitID:971d2b57972919527e27ed683032a71864a2eb56

130461-130462 --> testing pass

Test environment and result as below:

+-----------------------------+----------------+------------------------------+---------------------------+--------------+
|         Environment         | dpdk_unit_test | cryptodev_sw_snow3g_autotest | cryptodev_sw_zuc_autotest | lpm_autotest |
+=============================+================+==============================+===========================+==============+
| CentOS Stream 9 (ARM)       | PASS           | SKIPPED                      | SKIPPED                   | SKIPPED      |
+-----------------------------+----------------+------------------------------+---------------------------+--------------+
| Debian 11 (Buster) (ARM)    | PASS           | SKIPPED                      | SKIPPED                   | SKIPPED      |
+-----------------------------+----------------+------------------------------+---------------------------+--------------+
| Fedora 37 (ARM)             | PASS           | SKIPPED                      | SKIPPED                   | SKIPPED      |
+-----------------------------+----------------+------------------------------+---------------------------+--------------+
| Fedora 38 (ARM)             | PASS           | SKIPPED                      | SKIPPED                   | SKIPPED      |
+-----------------------------+----------------+------------------------------+---------------------------+--------------+
| Ubuntu 20.04 (ARM)          | PASS           | SKIPPED                      | SKIPPED                   | SKIPPED      |
+-----------------------------+----------------+------------------------------+---------------------------+--------------+
| Fedora 38 (ARM Clang)       | PASS           | SKIPPED                      | SKIPPED                   | SKIPPED      |
+-----------------------------+----------------+------------------------------+---------------------------+--------------+
| 32-bit Ubuntu 20.04.4 (ARM) | PASS           | SKIPPED                      | SKIPPED                   | SKIPPED      |
+-----------------------------+----------------+------------------------------+---------------------------+--------------+
| Debian 11 (arm)             | SKIPPED        | PASS                         | PASS                      | SKIPPED      |
+-----------------------------+----------------+------------------------------+---------------------------+--------------+
| Ubuntu 20.04 ARM SVE        | SKIPPED        | SKIPPED                      | SKIPPED                   | PASS         |
+-----------------------------+----------------+------------------------------+---------------------------+--------------+


CentOS Stream 9 (ARM)
	Kernel: Container Host Kernel
	Compiler: gcc 11.3.1

Debian 11 (Buster) (ARM)
	Kernel: Container Host Kernel
	Compiler: gcc 10.2.1

Fedora 37 (ARM)
	Kernel: Depends on container host
	Compiler: gcc 12.3.1

Fedora 38 (ARM)
	Kernel: Depends on container host
	Compiler: gcc 13.1.1

Ubuntu 20.04 (ARM)
	Kernel: Container Host Kernel
	Compiler: gcc 9.4.0

Fedora 38 (ARM Clang)
	Kernel: Depends on container host
	Compiler: clang 16.0.3

32-bit Ubuntu 20.04.4 (ARM)
	Kernel: 5.4.0-148-generic aarch64
	Compiler: gcc 9.4

Debian 11 (arm)
	Kernel: Container Host Kernel
	Compiler: gcc 10.2.1

Ubuntu 20.04 ARM SVE
	Kernel: 5.4.0-80-generic
	Compiler: gcc 10.3.0 (Ubuntu 10.3.0-1ubuntu1~20.04)

To view detailed results, visit:
https://lab.dpdk.org/results/dashboard/patchsets/27366/

UNH-IOL DPDK Community Lab

To manage your email subscriptions, visit: 
https://lab.dpdk.org/results/dashboard/preferences/subscriptions/


More information about the test-report mailing list