|SUCCESS| pw130483 [PATCH] test: remove use of word master in test_r

dpdklab at iol.unh.edu dpdklab at iol.unh.edu
Fri Aug 18 05:25:31 CEST 2023


Test-Label: iol-unit-arm64-testing
Test-Status: SUCCESS
http://dpdk.org/patch/130483

_Testing PASS_

Submitter: Stephen Hemminger <stephen at networkplumber.org>
Date: Friday, August 18 2023 02:33:14 
DPDK git baseline: Repo:dpdk
  Branch: master
  CommitID:971d2b57972919527e27ed683032a71864a2eb56

130483 --> testing pass

Test environment and result as below:

+-----------------+---------------------------+------------------------------+----------------+
|   Environment   | cryptodev_sw_zuc_autotest | cryptodev_sw_snow3g_autotest | dpdk_unit_test |
+=================+===========================+==============================+================+
| Debian 11 (arm) | PASS                      | PASS                         | SKIPPED        |
+-----------------+---------------------------+------------------------------+----------------+
| Fedora 37 (ARM) | SKIPPED                   | SKIPPED                      | PASS           |
+-----------------+---------------------------+------------------------------+----------------+
| Fedora 38 (ARM) | SKIPPED                   | SKIPPED                      | PASS           |
+-----------------+---------------------------+------------------------------+----------------+


Debian 11 (arm)
	Kernel: Container Host Kernel
	Compiler: gcc 10.2.1

Fedora 37 (ARM)
	Kernel: Depends on container host
	Compiler: gcc 12.3.1

Fedora 38 (ARM)
	Kernel: Depends on container host
	Compiler: gcc 13.1.1

To view detailed results, visit:
https://lab.dpdk.org/results/dashboard/patchsets/27374/

UNH-IOL DPDK Community Lab

To manage your email subscriptions, visit: 
https://lab.dpdk.org/results/dashboard/preferences/subscriptions/


More information about the test-report mailing list