|SUCCESS| pw130546-130544 [PATCH] [v4,8/8] net/ntnic: adds socket co

dpdklab at iol.unh.edu dpdklab at iol.unh.edu
Sun Aug 20 14:17:33 CEST 2023


Test-Label: iol-unit-arm64-testing
Test-Status: SUCCESS
http://dpdk.org/patch/130544

_Testing PASS_

Submitter: Mykola Kostenok <mko-plv at napatech.com>
Date: Friday, August 18 2023 18:41:27 
DPDK git baseline: Repo:dpdk
  Branch: master
  CommitID:971d2b57972919527e27ed683032a71864a2eb56

130546-130544 --> testing pass

Test environment and result as below:

+-----------------------------+---------------------------+------------------------------+----------------+
|         Environment         | cryptodev_sw_zuc_autotest | cryptodev_sw_snow3g_autotest | dpdk_unit_test |
+=============================+===========================+==============================+================+
| Debian 11 (arm)             | PASS                      | PASS                         | SKIPPED        |
+-----------------------------+---------------------------+------------------------------+----------------+
| CentOS Stream 9 (ARM)       | SKIPPED                   | SKIPPED                      | PASS           |
+-----------------------------+---------------------------+------------------------------+----------------+
| Debian 11 (Buster) (ARM)    | SKIPPED                   | SKIPPED                      | PASS           |
+-----------------------------+---------------------------+------------------------------+----------------+
| Fedora 37 (ARM)             | SKIPPED                   | SKIPPED                      | PASS           |
+-----------------------------+---------------------------+------------------------------+----------------+
| 32-bit Ubuntu 20.04.4 (ARM) | SKIPPED                   | SKIPPED                      | PASS           |
+-----------------------------+---------------------------+------------------------------+----------------+
| Fedora 38 (ARM)             | SKIPPED                   | SKIPPED                      | PASS           |
+-----------------------------+---------------------------+------------------------------+----------------+


Debian 11 (arm)
	Kernel: Container Host Kernel
	Compiler: gcc 10.2.1

CentOS Stream 9 (ARM)
	Kernel: Container Host Kernel
	Compiler: gcc 11.3.1

Debian 11 (Buster) (ARM)
	Kernel: Container Host Kernel
	Compiler: gcc 10.2.1

Fedora 37 (ARM)
	Kernel: Depends on container host
	Compiler: gcc 12.3.1

32-bit Ubuntu 20.04.4 (ARM)
	Kernel: 5.4.0-148-generic aarch64
	Compiler: gcc 9.4

Fedora 38 (ARM)
	Kernel: Depends on container host
	Compiler: gcc 13.1.1

To view detailed results, visit:
https://lab.dpdk.org/results/dashboard/patchsets/27388/

UNH-IOL DPDK Community Lab

To manage your email subscriptions, visit: 
https://lab.dpdk.org/results/dashboard/preferences/subscriptions/


More information about the test-report mailing list