|SUCCESS| pw130549 [PATCH] doc: update 23.07 Intel NICs matching lis
dpdklab at iol.unh.edu
dpdklab at iol.unh.edu
Mon Aug 21 09:06:05 CEST 2023
Test-Label: iol-compile-arm64-testing
Test-Status: SUCCESS
http://dpdk.org/patch/130549
_Testing PASS_
Submitter: Qiming Yang <qiming.yang at intel.com>
Date: Monday, August 21 2023 05:29:39
DPDK git baseline: Repo:dpdk
Branch: master
CommitID:971d2b57972919527e27ed683032a71864a2eb56
130549 --> testing pass
Test environment and result as below:
+-----------------------+--------------------+
| Environment | dpdk_meson_compile |
+=======================+====================+
| Ubuntu 20.04 ARM SVE | PASS |
+-----------------------+--------------------+
| CentOS Stream 9 (ARM) | PASS |
+-----------------------+--------------------+
| Ubuntu 20.04 (ARM) | PASS |
+-----------------------+--------------------+
| Fedora 38 (ARM) | PASS |
+-----------------------+--------------------+
Ubuntu 20.04 ARM SVE
Kernel: 5.4.0-80-generic
Compiler: gcc 10.3.0 (Ubuntu 10.3.0-1ubuntu1~20.04)
CentOS Stream 9 (ARM)
Kernel: Container Host Kernel
Compiler: gcc 11.3.1
Ubuntu 20.04 (ARM)
Kernel: Container Host Kernel
Compiler: gcc 9.4.0
Fedora 38 (ARM)
Kernel: Depends on container host
Compiler: gcc 13.1.1
To view detailed results, visit:
https://lab.dpdk.org/results/dashboard/patchsets/27391/
UNH-IOL DPDK Community Lab
To manage your email subscriptions, visit:
https://lab.dpdk.org/results/dashboard/preferences/subscriptions/
More information about the test-report
mailing list