|SUCCESS| pw130555 [PATCH] [v4] net/iavf: fix VLAN offload strip fla
dpdklab at iol.unh.edu
dpdklab at iol.unh.edu
Mon Aug 21 14:27:14 CEST 2023
Test-Label: iol-compile-arm64-testing
Test-Status: SUCCESS
http://dpdk.org/patch/130555
_Testing PASS_
Submitter: Wenjing Qiao <wenjing.qiao at intel.com>
Date: Monday, August 21 2023 09:52:12
DPDK git baseline: Repo:dpdk
Branch: master
CommitID:971d2b57972919527e27ed683032a71864a2eb56
130555 --> testing pass
Test environment and result as below:
+--------------------------------------+--------------------+
| Environment | dpdk_meson_compile |
+======================================+====================+
| Ubuntu 20.04 ARM Clang Cross Compile | PASS |
+--------------------------------------+--------------------+
| Ubuntu 20.04 ARM GCC Cross Compile | PASS |
+--------------------------------------+--------------------+
| Debian 11 (Buster) (ARM) | PASS |
+--------------------------------------+--------------------+
Ubuntu 20.04 ARM Clang Cross Compile
Kernel: 5.4.0-72-generic
Compiler: clang version 10.0.0-4ubuntu1
Ubuntu 20.04 ARM GCC Cross Compile
Kernel: 5.4.0-72-generic
Compiler: aarch64-linux-gnu-gcc (Ubuntu 9.3.0-17ubuntu1~20.04) 9.3.0
Debian 11 (Buster) (ARM)
Kernel: Container Host Kernel
Compiler: gcc 10.2.1
To view detailed results, visit:
https://lab.dpdk.org/results/dashboard/patchsets/27395/
UNH-IOL DPDK Community Lab
To manage your email subscriptions, visit:
https://lab.dpdk.org/results/dashboard/preferences/subscriptions/
More information about the test-report
mailing list