|SUCCESS| pw130564-130578 [PATCH] [v2,15/15] devtools: forbid inclus

dpdklab at iol.unh.edu dpdklab at iol.unh.edu
Mon Aug 21 17:49:37 CEST 2023


Test-Label: iol-unit-arm64-testing
Test-Status: SUCCESS
http://dpdk.org/patch/130578

_Testing PASS_

Submitter: David Marchand <david.marchand at redhat.com>
Date: Monday, August 21 2023 11:35:48 
DPDK git baseline: Repo:dpdk
  Branch: master
  CommitID:971d2b57972919527e27ed683032a71864a2eb56

130564-130578 --> testing pass

Test environment and result as below:

+-----------------------------+----------------+---------------------------+
|         Environment         | dpdk_unit_test | cryptodev_sw_zuc_autotest |
+=============================+================+===========================+
| Debian 11 (Buster) (ARM)    | PASS           | SKIPPED                   |
+-----------------------------+----------------+---------------------------+
| CentOS Stream 9 (ARM)       | PASS           | SKIPPED                   |
+-----------------------------+----------------+---------------------------+
| Fedora 38 (ARM Clang)       | PASS           | SKIPPED                   |
+-----------------------------+----------------+---------------------------+
| 32-bit Ubuntu 20.04.4 (ARM) | PASS           | SKIPPED                   |
+-----------------------------+----------------+---------------------------+
| Fedora 37 (ARM)             | PASS           | SKIPPED                   |
+-----------------------------+----------------+---------------------------+
| Debian 11 (arm)             | SKIPPED        | PASS                      |
+-----------------------------+----------------+---------------------------+


Debian 11 (Buster) (ARM)
	Kernel: Container Host Kernel
	Compiler: gcc 10.2.1

CentOS Stream 9 (ARM)
	Kernel: Container Host Kernel
	Compiler: gcc 11.3.1

Fedora 38 (ARM Clang)
	Kernel: Depends on container host
	Compiler: clang 16.0.3

32-bit Ubuntu 20.04.4 (ARM)
	Kernel: 5.4.0-148-generic aarch64
	Compiler: gcc 9.4

Fedora 37 (ARM)
	Kernel: Depends on container host
	Compiler: gcc 12.3.1

Debian 11 (arm)
	Kernel: Container Host Kernel
	Compiler: gcc 10.2.1

To view detailed results, visit:
https://lab.dpdk.org/results/dashboard/patchsets/27397/

UNH-IOL DPDK Community Lab

To manage your email subscriptions, visit: 
https://lab.dpdk.org/results/dashboard/preferences/subscriptions/


More information about the test-report mailing list