|SUCCESS| [GIT MASTER] 8be6c94d6d909b5bb8c6349ec02caf40d9dc903a
dpdklab at iol.unh.edu
dpdklab at iol.unh.edu
Tue Aug 22 14:27:32 CEST 2023
_Testing PASS_
Branch: dpdk-next-eventdev
8be6c94d6d909b5bb8c6349ec02caf40d9dc903a --> testing pass
Test environment and result as below:
+-----------------------------+----------------+--------------+
| Environment | dpdk_unit_test | lpm_autotest |
+=============================+================+==============+
| CentOS Stream 9 (ARM) | PASS | SKIPPED |
+-----------------------------+----------------+--------------+
| Debian 11 (Buster) (ARM) | PASS | SKIPPED |
+-----------------------------+----------------+--------------+
| 32-bit Ubuntu 20.04.4 (ARM) | PASS | SKIPPED |
+-----------------------------+----------------+--------------+
| Fedora 37 (ARM) | PASS | SKIPPED |
+-----------------------------+----------------+--------------+
| Fedora 38 (ARM Clang) | PASS | SKIPPED |
+-----------------------------+----------------+--------------+
| Fedora 38 (ARM) | PASS | SKIPPED |
+-----------------------------+----------------+--------------+
| Ubuntu 20.04 ARM SVE | SKIPPED | PASS |
+-----------------------------+----------------+--------------+
CentOS Stream 9 (ARM)
Kernel: Container Host Kernel
Compiler: gcc 11.3.1
Debian 11 (Buster) (ARM)
Kernel: Container Host Kernel
Compiler: gcc 10.2.1
32-bit Ubuntu 20.04.4 (ARM)
Kernel: 5.4.0-148-generic aarch64
Compiler: gcc 9.4
Fedora 37 (ARM)
Kernel: Depends on container host
Compiler: gcc 12.3.1
Fedora 38 (ARM Clang)
Kernel: Depends on container host
Compiler: clang 16.0.3
Fedora 38 (ARM)
Kernel: Depends on container host
Compiler: gcc 13.1.1
Ubuntu 20.04 ARM SVE
Kernel: 5.4.0-80-generic
Compiler: gcc 10.3.0 (Ubuntu 10.3.0-1ubuntu1~20.04)
To view detailed results, visit:
https://lab.dpdk.org/results/dashboard/tarballs/25891/
UNH-IOL DPDK Community Lab
To manage your email subscriptions, visit:
https://lab.dpdk.org/results/dashboard/preferences/subscriptions/
More information about the test-report
mailing list