|SUCCESS| pw130630-130631 [PATCH] [v1,2/2] app/testpmd: add random i

dpdklab at iol.unh.edu dpdklab at iol.unh.edu
Tue Aug 22 22:18:39 CEST 2023


Test-Label: iol-unit-arm64-testing
Test-Status: SUCCESS
http://dpdk.org/patch/130631

_Testing PASS_

Submitter: Michael Baum <michaelba at nvidia.com>
Date: Tuesday, August 22 2023 09:05:05 
DPDK git baseline: Repo:dpdk
  Branch: master
  CommitID:971d2b57972919527e27ed683032a71864a2eb56

130630-130631 --> testing pass

Test environment and result as below:

+--------------------------+---------------------------+----------------+
|       Environment        | cryptodev_sw_zuc_autotest | dpdk_unit_test |
+==========================+===========================+================+
| Debian 11 (arm)          | PASS                      | SKIPPED        |
+--------------------------+---------------------------+----------------+
| Debian 11 (Buster) (ARM) | SKIPPED                   | PASS           |
+--------------------------+---------------------------+----------------+
| CentOS Stream 9 (ARM)    | SKIPPED                   | PASS           |
+--------------------------+---------------------------+----------------+
| Fedora 38 (ARM)          | SKIPPED                   | PASS           |
+--------------------------+---------------------------+----------------+


Debian 11 (arm)
	Kernel: Container Host Kernel
	Compiler: gcc 10.2.1

Debian 11 (Buster) (ARM)
	Kernel: Container Host Kernel
	Compiler: gcc 10.2.1

CentOS Stream 9 (ARM)
	Kernel: Container Host Kernel
	Compiler: gcc 11.3.1

Fedora 38 (ARM)
	Kernel: Depends on container host
	Compiler: gcc 13.1.1

To view detailed results, visit:
https://lab.dpdk.org/results/dashboard/patchsets/27412/

UNH-IOL DPDK Community Lab

To manage your email subscriptions, visit: 
https://lab.dpdk.org/results/dashboard/preferences/subscriptions/


More information about the test-report mailing list