|SUCCESS| pw130628 [PATCH] [v1] config/arm: correct cpu arch for cro
dpdklab at iol.unh.edu
dpdklab at iol.unh.edu
Tue Aug 22 23:00:09 CEST 2023
Test-Label: iol-unit-arm64-testing
Test-Status: SUCCESS
http://dpdk.org/patch/130628
_Testing PASS_
Submitter: Joyce Kong <joyce.kong at arm.com>
Date: Tuesday, August 22 2023 07:47:42
DPDK git baseline: Repo:dpdk
Branch: master
CommitID:971d2b57972919527e27ed683032a71864a2eb56
130628 --> testing pass
Test environment and result as below:
+-----------------------------+----------------+---------------------------+------------------------------+
| Environment | dpdk_unit_test | cryptodev_sw_zuc_autotest | cryptodev_sw_snow3g_autotest |
+=============================+================+===========================+==============================+
| CentOS Stream 9 (ARM) | PASS | SKIPPED | SKIPPED |
+-----------------------------+----------------+---------------------------+------------------------------+
| Fedora 37 (ARM) | PASS | SKIPPED | SKIPPED |
+-----------------------------+----------------+---------------------------+------------------------------+
| Fedora 38 (ARM) | PASS | SKIPPED | SKIPPED |
+-----------------------------+----------------+---------------------------+------------------------------+
| Ubuntu 20.04 (ARM) | PASS | SKIPPED | SKIPPED |
+-----------------------------+----------------+---------------------------+------------------------------+
| Debian 11 (Buster) (ARM) | PASS | SKIPPED | SKIPPED |
+-----------------------------+----------------+---------------------------+------------------------------+
| 32-bit Ubuntu 20.04.4 (ARM) | PASS | SKIPPED | SKIPPED |
+-----------------------------+----------------+---------------------------+------------------------------+
| Fedora 38 (ARM Clang) | PASS | SKIPPED | SKIPPED |
+-----------------------------+----------------+---------------------------+------------------------------+
| Debian 11 (arm) | SKIPPED | PASS | PASS |
+-----------------------------+----------------+---------------------------+------------------------------+
CentOS Stream 9 (ARM)
Kernel: Container Host Kernel
Compiler: gcc 11.3.1
Fedora 37 (ARM)
Kernel: Depends on container host
Compiler: gcc 12.3.1
Fedora 38 (ARM)
Kernel: Depends on container host
Compiler: gcc 13.1.1
Ubuntu 20.04 (ARM)
Kernel: Container Host Kernel
Compiler: gcc 9.4.0
Debian 11 (Buster) (ARM)
Kernel: Container Host Kernel
Compiler: gcc 10.2.1
32-bit Ubuntu 20.04.4 (ARM)
Kernel: 5.4.0-148-generic aarch64
Compiler: gcc 9.4
Fedora 38 (ARM Clang)
Kernel: Depends on container host
Compiler: clang 16.0.3
Debian 11 (arm)
Kernel: Container Host Kernel
Compiler: gcc 10.2.1
To view detailed results, visit:
https://lab.dpdk.org/results/dashboard/patchsets/27410/
UNH-IOL DPDK Community Lab
To manage your email subscriptions, visit:
https://lab.dpdk.org/results/dashboard/preferences/subscriptions/
More information about the test-report
mailing list