|SUCCESS| pw130648-130650 [PATCH] [3/3] mempool/cnxk: fix alloc from

dpdklab at iol.unh.edu dpdklab at iol.unh.edu
Wed Aug 23 04:48:32 CEST 2023


Test-Label: iol-unit-arm64-testing
Test-Status: SUCCESS
http://dpdk.org/patch/130650

_Testing PASS_

Submitter: Ashwin Sekhar T K <asekhar at marvell.com>
Date: Tuesday, August 22 2023 17:01:57 
DPDK git baseline: Repo:dpdk
  Branch: master
  CommitID:971d2b57972919527e27ed683032a71864a2eb56

130648-130650 --> testing pass

Test environment and result as below:

+-----------------------+----------------+------------------------------+---------------------------+
|      Environment      | dpdk_unit_test | cryptodev_sw_snow3g_autotest | cryptodev_sw_zuc_autotest |
+=======================+================+==============================+===========================+
| CentOS Stream 9 (ARM) | PASS           | SKIPPED                      | SKIPPED                   |
+-----------------------+----------------+------------------------------+---------------------------+
| Fedora 37 (ARM)       | PASS           | SKIPPED                      | SKIPPED                   |
+-----------------------+----------------+------------------------------+---------------------------+
| Fedora 38 (ARM)       | PASS           | SKIPPED                      | SKIPPED                   |
+-----------------------+----------------+------------------------------+---------------------------+
| Debian 11 (arm)       | SKIPPED        | PASS                         | PASS                      |
+-----------------------+----------------+------------------------------+---------------------------+


CentOS Stream 9 (ARM)
	Kernel: Container Host Kernel
	Compiler: gcc 11.3.1

Fedora 37 (ARM)
	Kernel: Depends on container host
	Compiler: gcc 12.3.1

Fedora 38 (ARM)
	Kernel: Depends on container host
	Compiler: gcc 13.1.1

Debian 11 (arm)
	Kernel: Container Host Kernel
	Compiler: gcc 10.2.1

To view detailed results, visit:
https://lab.dpdk.org/results/dashboard/patchsets/27419/

UNH-IOL DPDK Community Lab

To manage your email subscriptions, visit: 
https://lab.dpdk.org/results/dashboard/preferences/subscriptions/


More information about the test-report mailing list