|SUCCESS| pw130660-130661 [PATCH] [v1,2/2] net/cnxk: update sa to po
dpdklab at iol.unh.edu
dpdklab at iol.unh.edu
Wed Aug 23 09:33:05 CEST 2023
Test-Label: iol-unit-amd64-testing
Test-Status: SUCCESS
http://dpdk.org/patch/130661
_Testing PASS_
Submitter: Ankur Dwivedi <adwivedi at marvell.com>
Date: Wednesday, August 23 2023 05:50:00
DPDK git baseline: Repo:dpdk
Branch: master
CommitID:971d2b57972919527e27ed683032a71864a2eb56
130660-130661 --> testing pass
Test environment and result as below:
+---------------------+----------------+
| Environment | dpdk_unit_test |
+=====================+================+
| Windows Server 2019 | PASS |
+---------------------+----------------+
| CentOS Stream 9 | PASS |
+---------------------+----------------+
| CentOS Stream 8 | PASS |
+---------------------+----------------+
Windows Server 2019
Kernel: 10.0
Compiler: clang 14.0 and gcc 8.1.0 (MinGW)
CentOS Stream 9
Kernel: 4.18.0-240.10.1.el8_3.x86_64
Compiler: gcc 11.3.1 20220421
CentOS Stream 8
Kernel: 4.18.0-240.10.1.el8_3.x86_64
Compiler: gcc 8.4.1 20200928
To view detailed results, visit:
https://lab.dpdk.org/results/dashboard/patchsets/27424/
UNH-IOL DPDK Community Lab
To manage your email subscriptions, visit:
https://lab.dpdk.org/results/dashboard/preferences/subscriptions/
More information about the test-report
mailing list