|SUCCESS| [GIT MASTER] ac1d4db91e9955148e82f2caaa107434409cf35e
dpdklab at iol.unh.edu
dpdklab at iol.unh.edu
Tue Aug 29 02:55:23 CEST 2023
_Testing PASS_
Branch: dpdk
ac1d4db91e9955148e82f2caaa107434409cf35e --> testing pass
Test environment and result as below:
+-----------------+--------------------+
| Environment | dpdk_meson_compile |
+=================+====================+
| FreeBSD 13 | PASS |
+-----------------+--------------------+
| Debian Bullseye | PASS |
+-----------------+--------------------+
| Fedora 38 | PASS |
+-----------------+--------------------+
FreeBSD 13
Kernel: 13.0
Compiler: clang 11.0.1
Debian Bullseye
Kernel: 5.4.0-122-generic
Compiler: gcc 10.2.1-6
Fedora 38
Kernel: Depends on container host
Compiler: gcc 13.1.1
To view detailed results, visit:
https://lab.dpdk.org/results/dashboard/tarballs/25965/
UNH-IOL DPDK Community Lab
To manage your email subscriptions, visit:
https://lab.dpdk.org/results/dashboard/preferences/subscriptions/
More information about the test-report
mailing list