|SUCCESS| [GIT MASTER] ac1d4db91e9955148e82f2caaa107434409cf35e

dpdklab at iol.unh.edu dpdklab at iol.unh.edu
Tue Aug 29 02:59:46 CEST 2023


_Testing PASS_

Branch: dpdk

ac1d4db91e9955148e82f2caaa107434409cf35e --> testing pass

Test environment and result as below:

+--------------------------------------+--------------------+
|             Environment              | dpdk_meson_compile |
+======================================+====================+
| Ubuntu 20.04 ARM SVE                 | PASS               |
+--------------------------------------+--------------------+
| Ubuntu 20.04 ARM GCC Cross Compile   | PASS               |
+--------------------------------------+--------------------+
| Ubuntu 20.04 ARM Clang Cross Compile | PASS               |
+--------------------------------------+--------------------+


Ubuntu 20.04 ARM SVE
	Kernel: 5.4.0-80-generic
	Compiler: gcc 10.3.0 (Ubuntu 10.3.0-1ubuntu1~20.04)

Ubuntu 20.04 ARM GCC Cross Compile
	Kernel: 5.4.0-72-generic
	Compiler: aarch64-linux-gnu-gcc (Ubuntu 9.3.0-17ubuntu1~20.04) 9.3.0

Ubuntu 20.04 ARM Clang Cross Compile
	Kernel: 5.4.0-72-generic
	Compiler: clang version 10.0.0-4ubuntu1

To view detailed results, visit:
https://lab.dpdk.org/results/dashboard/tarballs/25965/

UNH-IOL DPDK Community Lab

To manage your email subscriptions, visit: 
https://lab.dpdk.org/results/dashboard/preferences/subscriptions/


More information about the test-report mailing list