|SUCCESS| pw122759 [PATCH] [v5] eventdev: add trace points

dpdklab at iol.unh.edu dpdklab at iol.unh.edu
Wed Feb 1 02:53:06 CET 2023


Test-Label: iol-testing
Test-Status: SUCCESS
http://dpdk.org/patch/122759

_Testing PASS_

Submitter: Amit Prakash Shukla <amitprakashs at marvell.com>
Date: Tuesday, January 31 2023 13:44:33 
DPDK git baseline: Repo:dpdk
  Branch: master
  CommitID:2a211079a92e962bbd0ec81e425a6ffc32890e67

122759 --> testing pass

Test environment and result as below:

+-------------------------------+----------------+--------------------+----------------------+
|          Environment          | dpdk_unit_test | dpdk_meson_compile | dpdk_mingw64_compile |
+===============================+================+====================+======================+
| Ubuntu 20.04 ARM Clang Native | PASS           | PASS               | SKIPPED              |
+-------------------------------+----------------+--------------------+----------------------+
| Ubuntu 20.04 ARM GCC Native   | PASS           | PASS               | SKIPPED              |
+-------------------------------+----------------+--------------------+----------------------+
| Windows Server 2019           | PASS           | PASS               | PASS                 |
+-------------------------------+----------------+--------------------+----------------------+
| Debian Bullseye               | PASS           | SKIPPED            | SKIPPED              |
+-------------------------------+----------------+--------------------+----------------------+
| Ubuntu 22.04                  | PASS           | SKIPPED            | SKIPPED              |
+-------------------------------+----------------+--------------------+----------------------+
| CentOS Stream 9               | PASS           | SKIPPED            | SKIPPED              |
+-------------------------------+----------------+--------------------+----------------------+
| openSUSE Leap 15              | PASS           | SKIPPED            | SKIPPED              |
+-------------------------------+----------------+--------------------+----------------------+
| FreeBSD 13                    | SKIPPED        | PASS               | SKIPPED              |
+-------------------------------+----------------+--------------------+----------------------+


Ubuntu 20.04 ARM Clang Native
	Kernel: 5.4.0-53-generic
	Compiler: clang 10.0.0-4ubuntu1

Ubuntu 20.04 ARM GCC Native
	Kernel: 5.4.0-53-generic
	Compiler: gcc 9.3

Windows Server 2019
	Kernel: 10.0
	Compiler: clang 14.0 and gcc 8.1.0 (MinGW)

Debian Bullseye
	Kernel: 5.4.0-122-generic
	Compiler: gcc 10.2.1-6

Ubuntu 22.04
	Kernel: Container Host Kernel
	Compiler: gcc 11.3.1-2

CentOS Stream 9
	Kernel: 4.18.0-240.10.1.el8_3.x86_64
	Compiler: gcc 11.3.1 20220421

openSUSE Leap 15
	Kernel: 4.18.0-240.10.1.el8_3.x86_64
	Compiler: gcc 7.5.0

FreeBSD 13
	Kernel: 13.0
	Compiler: clang 11.0.1

To view detailed results, visit:
https://lab.dpdk.org/results/dashboard/patchsets/25140/

UNH-IOL DPDK Community Lab

To manage your email subscriptions, visit: 
https://lab.dpdk.org/results/dashboard/preferences/subscriptions/


More information about the test-report mailing list