|SUCCESS| pw122746 [PATCH] app/testpmd: fix forwarding stats for Tx dropped

dpdklab at iol.unh.edu dpdklab at iol.unh.edu
Wed Feb 1 05:17:34 CET 2023


Test-Label: iol-testing
Test-Status: SUCCESS
http://dpdk.org/patch/122746

_Testing PASS_

Submitter: Ferruh Yigit <ferruh.yigit at amd.com>
Date: Tuesday, January 31 2023 11:56:03 
DPDK git baseline: Repo:dpdk
  Branch: master
  CommitID:2a211079a92e962bbd0ec81e425a6ffc32890e67

122746 --> testing pass

Test environment and result as below:

+-------------------------------+----------------+
|          Environment          | dpdk_unit_test |
+===============================+================+
| Ubuntu 20.04 ARM GCC Native   | PASS           |
+-------------------------------+----------------+
| Ubuntu 20.04 ARM Clang Native | PASS           |
+-------------------------------+----------------+
| Windows Server 2019           | PASS           |
+-------------------------------+----------------+
| RHEL 7                        | PASS           |
+-------------------------------+----------------+
| openSUSE Leap 15              | PASS           |
+-------------------------------+----------------+
| Ubuntu 22.04                  | PASS           |
+-------------------------------+----------------+
| CentOS Stream 9               | PASS           |
+-------------------------------+----------------+
| Debian Buster                 | PASS           |
+-------------------------------+----------------+


Ubuntu 20.04 ARM GCC Native
	Kernel: 5.4.0-53-generic
	Compiler: gcc 9.3

Ubuntu 20.04 ARM Clang Native
	Kernel: 5.4.0-53-generic
	Compiler: clang 10.0.0-4ubuntu1

Windows Server 2019
	Kernel: 10.0
	Compiler: clang 14.0 and gcc 8.1.0 (MinGW)

RHEL 7
	Kernel: 4.18.0-240.10.1.el8_3.x86_64
	Compiler: gcc 4.8.5 20150623 (Red Hat 4.8.5-44)

openSUSE Leap 15
	Kernel: 4.18.0-240.10.1.el8_3.x86_64
	Compiler: gcc 7.5.0

Ubuntu 22.04
	Kernel: Container Host Kernel
	Compiler: clang 14.0.5-1.fc36

CentOS Stream 9
	Kernel: 4.18.0-240.10.1.el8_3.x86_64
	Compiler: gcc 11.3.1 20220421

Debian Buster
	Kernel: 5.4.0-122-generic
	Compiler: gcc 8.3.0-6

To view detailed results, visit:
https://lab.dpdk.org/results/dashboard/patchsets/25137/

UNH-IOL DPDK Community Lab

To manage your email subscriptions, visit: 
https://lab.dpdk.org/results/dashboard/preferences/subscriptions/


More information about the test-report mailing list