|SUCCESS| pw122764-122761 [PATCH] [v5, 3/3] doc: announce deprecation of thread ctrl create function
dpdklab at iol.unh.edu
dpdklab at iol.unh.edu
Wed Feb 1 16:00:03 CET 2023
Test-Label: iol-testing
Test-Status: SUCCESS
http://dpdk.org/patch/122761
_Testing PASS_
Submitter: Tyler Retzlaff <roretzla at linuxonhyperv3.guj3yctzbm1etfxqx2vob5hsef.xx.internal.cloudapp.net>
Date: Tuesday, January 31 2023 19:46:48
DPDK git baseline: Repo:dpdk
Branch: master
CommitID:2a211079a92e962bbd0ec81e425a6ffc32890e67
122764-122761 --> testing pass
Test environment and result as below:
+-------------------------------+----------------+
| Environment | dpdk_unit_test |
+===============================+================+
| Ubuntu 20.04 ARM GCC Native | PASS |
+-------------------------------+----------------+
| Ubuntu 20.04 ARM Clang Native | PASS |
+-------------------------------+----------------+
| Windows Server 2019 | PASS |
+-------------------------------+----------------+
| Debian Bullseye | PASS |
+-------------------------------+----------------+
Ubuntu 20.04 ARM GCC Native
Kernel: 5.4.0-53-generic
Compiler: gcc 9.3
Ubuntu 20.04 ARM Clang Native
Kernel: 5.4.0-53-generic
Compiler: clang 10.0.0-4ubuntu1
Windows Server 2019
Kernel: 10.0
Compiler: clang 14.0 and gcc 8.1.0 (MinGW)
Debian Bullseye
Kernel: 5.4.0-122-generic
Compiler: gcc 10.2.1-6
To view detailed results, visit:
https://lab.dpdk.org/results/dashboard/patchsets/25142/
UNH-IOL DPDK Community Lab
To manage your email subscriptions, visit:
https://lab.dpdk.org/results/dashboard/preferences/subscriptions/
More information about the test-report
mailing list