|SUCCESS| pw122813-122848 [PATCH] [v4, 39/39] ml/cnxk: enable support for configurable ocm page

dpdklab at iol.unh.edu dpdklab at iol.unh.edu
Thu Feb 2 18:41:25 CET 2023


Test-Label: iol-aarch64-compile-testing
Test-Status: SUCCESS
http://dpdk.org/patch/122848

_Testing PASS_

Submitter: Srikanth Yalavarthi <syalavarthi at marvell.com>
Date: Wednesday, February 01 2023 09:23:10 
DPDK git baseline: Repo:dpdk
  Branch: master
  CommitID:99cc0a9ab6730d4df70dba4b19e78e87ad7ba110

122813-122848 --> testing pass

Test environment and result as below:

+------------------------------------+--------------------+
|            Environment             | dpdk_meson_compile |
+====================================+====================+
| Ubuntu 20.04 ARM GCC Native        | PASS               |
+------------------------------------+--------------------+
| Ubuntu 20.04 ARM Clang Native      | PASS               |
+------------------------------------+--------------------+
| Ubuntu 20.04 ARM GCC Cross Compile | PASS               |
+------------------------------------+--------------------+


Ubuntu 20.04 ARM GCC Native
	Kernel: 5.4.0-53-generic
	Compiler: gcc 9.3

Ubuntu 20.04 ARM Clang Native
	Kernel: 5.4.0-53-generic
	Compiler: clang 10.0.0-4ubuntu1

Ubuntu 20.04 ARM GCC Cross Compile
	Kernel: 5.4.0-72-generic
	Compiler: aarch64-linux-gnu-gcc (Ubuntu 9.3.0-17ubuntu1~20.04) 9.3.0

To view detailed results, visit:
https://lab.dpdk.org/results/dashboard/patchsets/25151/

UNH-IOL DPDK Community Lab

To manage your email subscriptions, visit: 
https://lab.dpdk.org/results/dashboard/preferences/subscriptions/


More information about the test-report mailing list