|SUCCESS| pw122870-122871 [PATCH] [v8, 2/2] ethdev: add quota flow action and item
dpdklab at iol.unh.edu
dpdklab at iol.unh.edu
Thu Feb 2 18:44:09 CET 2023
Test-Label: iol-x86_64-compile-testing
Test-Status: SUCCESS
http://dpdk.org/patch/122871
_Testing PASS_
Submitter: Gregory Etelson <getelson at nvidia.com>
Date: Wednesday, February 01 2023 15:16:46
DPDK git baseline: Repo:dpdk
Branch: master
CommitID:99cc0a9ab6730d4df70dba4b19e78e87ad7ba110
122870-122871 --> testing pass
Test environment and result as below:
+------------------+--------------------+
| Environment | dpdk_meson_compile |
+==================+====================+
| FreeBSD 13 | PASS |
+------------------+--------------------+
| RHEL 7 | PASS |
+------------------+--------------------+
| openSUSE Leap 15 | PASS |
+------------------+--------------------+
| CentOS Stream 8 | PASS |
+------------------+--------------------+
| Ubuntu 22.04 | PASS |
+------------------+--------------------+
| Debian Bullseye | PASS |
+------------------+--------------------+
| CentOS Stream 9 | PASS |
+------------------+--------------------+
FreeBSD 13
Kernel: 13.0
Compiler: clang 11.0.1
RHEL 7
Kernel: 4.18.0-240.10.1.el8_3.x86_64
Compiler: gcc 4.8.5 20150623 (Red Hat 4.8.5-44)
openSUSE Leap 15
Kernel: 4.18.0-240.10.1.el8_3.x86_64
Compiler: gcc 7.5.0
CentOS Stream 8
Kernel: 4.18.0-240.10.1.el8_3.x86_64
Compiler: gcc 8.4.1 20200928
Ubuntu 22.04
Kernel: Container Host Kernel
Compiler: gcc 11.3.1-2
Debian Bullseye
Kernel: 5.4.0-122-generic
Compiler: gcc 10.2.1-6
CentOS Stream 9
Kernel: 4.18.0-240.10.1.el8_3.x86_64
Compiler: gcc 11.3.1 20220421
To view detailed results, visit:
https://lab.dpdk.org/results/dashboard/patchsets/25156/
UNH-IOL DPDK Community Lab
To manage your email subscriptions, visit:
https://lab.dpdk.org/results/dashboard/preferences/subscriptions/
More information about the test-report
mailing list