|SUCCESS| pw123037-123038 [PATCH] [v4, 2/2] ethdev: add PHY affinity match item

dpdklab at iol.unh.edu dpdklab at iol.unh.edu
Sat Feb 4 20:01:53 CET 2023


Test-Label: iol-testing
Test-Status: SUCCESS
http://dpdk.org/patch/123038

_Testing PASS_

Submitter: Jiawei Wang <jiaweiw at nvidia.com>
Date: Friday, February 03 2023 13:33:39 
DPDK git baseline: Repo:dpdk
  Branch: master
  CommitID:bc1db4f45af35c87e7d97db7a24d479674aa8a43

123037-123038 --> testing pass

Test environment and result as below:

+-------------------------------+----------------+
|          Environment          | dpdk_unit_test |
+===============================+================+
| Ubuntu 20.04 ARM Clang Native | PASS           |
+-------------------------------+----------------+
| Ubuntu 20.04 ARM GCC Native   | PASS           |
+-------------------------------+----------------+
| Windows Server 2019           | PASS           |
+-------------------------------+----------------+
| CentOS Stream 8               | PASS           |
+-------------------------------+----------------+
| Ubuntu 22.04                  | PASS           |
+-------------------------------+----------------+


Ubuntu 20.04 ARM Clang Native
	Kernel: 5.4.0-53-generic
	Compiler: clang 10.0.0-4ubuntu1

Ubuntu 20.04 ARM GCC Native
	Kernel: 5.4.0-53-generic
	Compiler: gcc 9.3

Windows Server 2019
	Kernel: 10.0
	Compiler: clang 14.0 and gcc 8.1.0 (MinGW)

CentOS Stream 8
	Kernel: 4.18.0-240.10.1.el8_3.x86_64
	Compiler: gcc 8.4.1 20200928

Ubuntu 22.04
	Kernel: Container Host Kernel
	Compiler: gcc 11.3.1-2

To view detailed results, visit:
https://lab.dpdk.org/results/dashboard/patchsets/25202/

UNH-IOL DPDK Community Lab

To manage your email subscriptions, visit: 
https://lab.dpdk.org/results/dashboard/preferences/subscriptions/


More information about the test-report mailing list