|SUCCESS| pw123055-123057 [PATCH] [v3, 3/3] net/mlx5/hws: add ICMPv6 ID and sequence match support

dpdklab at iol.unh.edu dpdklab at iol.unh.edu
Sun Feb 5 16:46:16 CET 2023


Test-Label: iol-testing
Test-Status: SUCCESS
http://dpdk.org/patch/123057

_Testing PASS_

Submitter: Leo Xu <yongquanx at nvidia.com>
Date: Sunday, February 05 2023 13:41:54 
DPDK git baseline: Repo:dpdk
  Branch: master
  CommitID:bc1db4f45af35c87e7d97db7a24d479674aa8a43

123055-123057 --> testing pass

Test environment and result as below:

+-------------------------------+----------------+
|          Environment          | dpdk_unit_test |
+===============================+================+
| Windows Server 2019           | PASS           |
+-------------------------------+----------------+
| Ubuntu 20.04 ARM GCC Native   | PASS           |
+-------------------------------+----------------+
| Ubuntu 20.04 ARM Clang Native | PASS           |
+-------------------------------+----------------+
| Ubuntu 22.04                  | PASS           |
+-------------------------------+----------------+
| RHEL 7                        | PASS           |
+-------------------------------+----------------+


Windows Server 2019
	Kernel: 10.0
	Compiler: clang 14.0 and gcc 8.1.0 (MinGW)

Ubuntu 20.04 ARM GCC Native
	Kernel: 5.4.0-53-generic
	Compiler: gcc 9.3

Ubuntu 20.04 ARM Clang Native
	Kernel: 5.4.0-53-generic
	Compiler: clang 10.0.0-4ubuntu1

Ubuntu 22.04
	Kernel: Container Host Kernel
	Compiler: gcc 11.3.1-2

RHEL 7
	Kernel: 4.18.0-240.10.1.el8_3.x86_64
	Compiler: gcc 4.8.5 20150623 (Red Hat 4.8.5-44)

To view detailed results, visit:
https://lab.dpdk.org/results/dashboard/patchsets/25208/

UNH-IOL DPDK Community Lab

To manage your email subscriptions, visit: 
https://lab.dpdk.org/results/dashboard/preferences/subscriptions/


More information about the test-report mailing list