|SUCCESS| [GIT MASTER] 796b031608d8d52e040f83304c676d3cda5af617

dpdklab at iol.unh.edu dpdklab at iol.unh.edu
Mon Feb 6 01:35:48 CET 2023


_Testing PASS_

Branch: dpdk

796b031608d8d52e040f83304c676d3cda5af617 --> testing pass

Test environment and result as below:

+---------------+----------------------------------+
|  Environment  | dpdk_kmod_compile_torvalds_linux |
+===============+==================================+
| Debian Buster | PASS                             |
+---------------+----------------------------------+
| Ubuntu 22.04  | PASS                             |
+---------------+----------------------------------+
| Ubuntu 20.04  | PASS                             |
+---------------+----------------------------------+


Debian Buster
	Kernel: 5.4.0-122-generic
	Compiler: gcc 8.3.0-6

Ubuntu 22.04
	Kernel: Container Host Kernel
	Compiler: clang 14.0.5-1.fc36

Ubuntu 20.04
	Kernel: 4.18.0-240.10.1.el8_3.x86_64
	Compiler: gcc 9.3.0-17ubuntu1~20.04

To view detailed results, visit:
https://lab.dpdk.org/results/dashboard/tarballs/23159/

UNH-IOL DPDK Community Lab

To manage your email subscriptions, visit: 
https://lab.dpdk.org/results/dashboard/preferences/subscriptions/


More information about the test-report mailing list