|SUCCESS| pw123159 [PATCH] bnxt: fix unwanted interrupt config on link state change

dpdklab at iol.unh.edu dpdklab at iol.unh.edu
Tue Feb 7 03:54:15 CET 2023


Test-Label: iol-testing
Test-Status: SUCCESS
http://dpdk.org/patch/123159

_Testing PASS_

Submitter: None <edwin.brossette at 6wind.com>
Date: Monday, February 06 2023 17:11:13 
DPDK git baseline: Repo:dpdk
  Branch: master
  CommitID:796b031608d8d52e040f83304c676d3cda5af617

123159 --> testing pass

Test environment and result as below:

+-------------------------------+----------------+--------------------+----------------------+
|          Environment          | dpdk_unit_test | dpdk_meson_compile | dpdk_mingw64_compile |
+===============================+================+====================+======================+
| Ubuntu 20.04 ARM GCC Native   | PASS           | PASS               | SKIPPED              |
+-------------------------------+----------------+--------------------+----------------------+
| Ubuntu 20.04 ARM Clang Native | PASS           | PASS               | SKIPPED              |
+-------------------------------+----------------+--------------------+----------------------+
| Windows Server 2019           | PASS           | PASS               | PASS                 |
+-------------------------------+----------------+--------------------+----------------------+
| CentOS Stream 8               | PASS           | SKIPPED            | SKIPPED              |
+-------------------------------+----------------+--------------------+----------------------+
| RHEL8                         | PASS           | SKIPPED            | SKIPPED              |
+-------------------------------+----------------+--------------------+----------------------+
| Debian Bullseye               | PASS           | SKIPPED            | SKIPPED              |
+-------------------------------+----------------+--------------------+----------------------+
| FreeBSD 13                    | SKIPPED        | PASS               | SKIPPED              |
+-------------------------------+----------------+--------------------+----------------------+


Ubuntu 20.04 ARM GCC Native
	Kernel: 5.4.0-53-generic
	Compiler: gcc 9.3

Ubuntu 20.04 ARM Clang Native
	Kernel: 5.4.0-53-generic
	Compiler: clang 10.0.0-4ubuntu1

Windows Server 2019
	Kernel: 10.0
	Compiler: clang 14.0 and gcc 8.1.0 (MinGW)

CentOS Stream 8
	Kernel: 4.18.0-240.10.1.el8_3.x86_64
	Compiler: gcc 8.4.1 20200928

RHEL8
	Kernel: 4.18.0-240.10.1.el8_3.x86_64
	Compiler: gcc 8.3.1 20191121 (Red Hat 8.3.1-5)

Debian Bullseye
	Kernel: 5.4.0-122-generic
	Compiler: gcc 10.2.1-6

FreeBSD 13
	Kernel: 13.0
	Compiler: clang 11.0.1

To view detailed results, visit:
https://lab.dpdk.org/results/dashboard/patchsets/25230/

UNH-IOL DPDK Community Lab

To manage your email subscriptions, visit: 
https://lab.dpdk.org/results/dashboard/preferences/subscriptions/


More information about the test-report mailing list