|SUCCESS| [GIT MASTER] 31608e4db56893c896375288671b5ee38723a211

dpdklab at iol.unh.edu dpdklab at iol.unh.edu
Tue Feb 7 17:49:59 CET 2023


_Testing PASS_

Branch: tags/v21.11

31608e4db56893c896375288671b5ee38723a211 --> testing pass

Test environment and result as below:

+-------------------------------+----------------+
|          Environment          | dpdk_unit_test |
+===============================+================+
| Ubuntu 20.04 ARM Clang Native | PASS           |
+-------------------------------+----------------+
| Ubuntu 20.04 ARM GCC Native   | PASS           |
+-------------------------------+----------------+
| Windows Server 2019           | PASS           |
+-------------------------------+----------------+
| openSUSE Leap 15              | PASS           |
+-------------------------------+----------------+
| Ubuntu 20.04                  | PASS           |
+-------------------------------+----------------+
| RHEL8                         | PASS           |
+-------------------------------+----------------+


Ubuntu 20.04 ARM Clang Native
	Kernel: 5.4.0-53-generic
	Compiler: clang 10.0.0-4ubuntu1

Ubuntu 20.04 ARM GCC Native
	Kernel: 5.4.0-53-generic
	Compiler: gcc 9.3

Windows Server 2019
	Kernel: 10.0
	Compiler: clang 14.0 and gcc 8.1.0 (MinGW)

openSUSE Leap 15
	Kernel: 4.18.0-240.10.1.el8_3.x86_64
	Compiler: gcc 7.5.0

Ubuntu 20.04
	Kernel: 4.18.0-240.10.1.el8_3.x86_64
	Compiler: gcc 9.3.0-17ubuntu1~20.04

RHEL8
	Kernel: 4.18.0-240.10.1.el8_3.x86_64
	Compiler: gcc 8.3.1 20191121 (Red Hat 8.3.1-5)

To view detailed results, visit:
https://lab.dpdk.org/results/dashboard/tarballs/23183/

UNH-IOL DPDK Community Lab

To manage your email subscriptions, visit: 
https://lab.dpdk.org/results/dashboard/preferences/subscriptions/


More information about the test-report mailing list