|SUCCESS| pw123214-123222 [PATCH] [v6,9/9] vhost: enable lock check

dpdklab at iol.unh.edu dpdklab at iol.unh.edu
Wed Feb 8 04:25:10 CET 2023


Test-Label: iol-testing
Test-Status: SUCCESS
http://dpdk.org/patch/123222

_Testing PASS_

Submitter: David Marchand <david.marchand at redhat.com>
Date: Tuesday, February 07 2023 10:45:32 
DPDK git baseline: Repo:dpdk
  Branch: master
  CommitID:56ee8af9fd80493a9dd888ccc01ef4f1db02e491

123214-123222 --> testing pass

Test environment and result as below:

+-------------------------------+----------------+
|          Environment          | dpdk_unit_test |
+===============================+================+
| Ubuntu 20.04 ARM GCC Native   | PASS           |
+-------------------------------+----------------+
| Ubuntu 20.04 ARM Clang Native | PASS           |
+-------------------------------+----------------+
| Windows Server 2019           | PASS           |
+-------------------------------+----------------+
| Debian Buster                 | PASS           |
+-------------------------------+----------------+


Ubuntu 20.04 ARM GCC Native
	Kernel: 5.4.0-53-generic
	Compiler: gcc 9.3

Ubuntu 20.04 ARM Clang Native
	Kernel: 5.4.0-53-generic
	Compiler: clang 10.0.0-4ubuntu1

Windows Server 2019
	Kernel: 10.0
	Compiler: clang 14.0 and gcc 8.1.0 (MinGW)

Debian Buster
	Kernel: 5.4.0-122-generic
	Compiler: gcc 8.3.0-6

To view detailed results, visit:
https://lab.dpdk.org/results/dashboard/patchsets/25249/

UNH-IOL DPDK Community Lab

To manage your email subscriptions, visit: 
https://lab.dpdk.org/results/dashboard/preferences/subscriptions/


More information about the test-report mailing list