|SUCCESS| pw123257-123268 [PATCH] [v3, 12/12] mldev: support to get debug info and test device
dpdklab at iol.unh.edu
dpdklab at iol.unh.edu
Wed Feb 8 10:00:43 CET 2023
Test-Label: iol-testing
Test-Status: SUCCESS
http://dpdk.org/patch/123268
_Testing PASS_
Submitter: Jerin Jacob Kollanukkaran <jerinj at marvell.com>
Date: Tuesday, February 07 2023 15:13:16
DPDK git baseline: Repo:dpdk
Branch: master
CommitID:56ee8af9fd80493a9dd888ccc01ef4f1db02e491
123257-123268 --> testing pass
Test environment and result as below:
+-------------------------------+----------------+
| Environment | dpdk_unit_test |
+===============================+================+
| Ubuntu 20.04 ARM GCC Native | PASS |
+-------------------------------+----------------+
| Ubuntu 20.04 ARM Clang Native | PASS |
+-------------------------------+----------------+
| Windows Server 2019 | PASS |
+-------------------------------+----------------+
| Debian Bullseye | PASS |
+-------------------------------+----------------+
| Ubuntu 22.04 | PASS |
+-------------------------------+----------------+
| RHEL 7 | PASS |
+-------------------------------+----------------+
| Ubuntu 20.04 | PASS |
+-------------------------------+----------------+
| CentOS Stream 9 | PASS |
+-------------------------------+----------------+
Ubuntu 20.04 ARM GCC Native
Kernel: 5.4.0-53-generic
Compiler: gcc 9.3
Ubuntu 20.04 ARM Clang Native
Kernel: 5.4.0-53-generic
Compiler: clang 10.0.0-4ubuntu1
Windows Server 2019
Kernel: 10.0
Compiler: clang 14.0 and gcc 8.1.0 (MinGW)
Debian Bullseye
Kernel: 5.4.0-122-generic
Compiler: gcc 10.2.1-6
Ubuntu 22.04
Kernel: Container Host Kernel
Compiler: clang 14.0.5-1.fc36
RHEL 7
Kernel: 4.18.0-240.10.1.el8_3.x86_64
Compiler: gcc 4.8.5 20150623 (Red Hat 4.8.5-44)
Ubuntu 20.04
Kernel: 4.18.0-240.10.1.el8_3.x86_64
Compiler: gcc 9.3.0-17ubuntu1~20.04
CentOS Stream 9
Kernel: 4.18.0-240.10.1.el8_3.x86_64
Compiler: gcc 11.3.1 20220421
To view detailed results, visit:
https://lab.dpdk.org/results/dashboard/patchsets/25258/
UNH-IOL DPDK Community Lab
To manage your email subscriptions, visit:
https://lab.dpdk.org/results/dashboard/preferences/subscriptions/
More information about the test-report
mailing list