|SUCCESS| pw123207 [PATCH] net/i40e: remove avx512 specific Rx queue rearm code
dpdklab at iol.unh.edu
dpdklab at iol.unh.edu
Wed Feb 8 13:56:26 CET 2023
Test-Label: iol-abi-testing
Test-Status: SUCCESS
http://dpdk.org/patch/123207
_Testing PASS_
Submitter: Wenzhuo Lu <wenzhuo.lu at intel.com>
Date: Tuesday, February 07 2023 06:39:01
DPDK git baseline: Repo:dpdk
Branch: master
CommitID:56ee8af9fd80493a9dd888ccc01ef4f1db02e491
123207 --> testing pass
Test environment and result as below:
+------------------+----------+
| Environment | abi_test |
+==================+==========+
| RHEL 7 | PASS |
+------------------+----------+
| openSUSE Leap 15 | PASS |
+------------------+----------+
| Ubuntu 22.04 | PASS |
+------------------+----------+
| RHEL8 | PASS |
+------------------+----------+
| Debian Bullseye | PASS |
+------------------+----------+
| Ubuntu 20.04 | PASS |
+------------------+----------+
| CentOS Stream 8 | PASS |
+------------------+----------+
| Debian Buster | PASS |
+------------------+----------+
| CentOS Stream 9 | PASS |
+------------------+----------+
RHEL 7
Kernel: 4.18.0-240.10.1.el8_3.x86_64
Compiler: gcc 4.8.5 20150623 (Red Hat 4.8.5-44)
openSUSE Leap 15
Kernel: 4.18.0-240.10.1.el8_3.x86_64
Compiler: gcc 7.5.0
Ubuntu 22.04
Kernel: Container Host Kernel
Compiler: clang 14.0.5-1.fc36
RHEL8
Kernel: 4.18.0-240.10.1.el8_3.x86_64
Compiler: gcc 8.3.1 20191121 (Red Hat 8.3.1-5)
Debian Bullseye
Kernel: 5.4.0-122-generic
Compiler: gcc 10.2.1-6
Ubuntu 20.04
Kernel: 4.18.0-240.10.1.el8_3.x86_64
Compiler: gcc 9.3.0-17ubuntu1~20.04
CentOS Stream 8
Kernel: 4.18.0-240.10.1.el8_3.x86_64
Compiler: gcc 8.4.1 20200928
Debian Buster
Kernel: 5.4.0-122-generic
Compiler: gcc 8.3.0-6
CentOS Stream 9
Kernel: 4.18.0-240.10.1.el8_3.x86_64
Compiler: gcc 11.3.1 20220421
To view detailed results, visit:
https://lab.dpdk.org/results/dashboard/patchsets/25244/
UNH-IOL DPDK Community Lab
To manage your email subscriptions, visit:
https://lab.dpdk.org/results/dashboard/preferences/subscriptions/
More information about the test-report
mailing list