|SUCCESS| pw123450 [PATCH] net/nfp: fix the incorrect vni of VXLAN encap action

dpdklab at iol.unh.edu dpdklab at iol.unh.edu
Thu Feb 9 16:37:35 CET 2023


Test-Label: iol-testing
Test-Status: SUCCESS
http://dpdk.org/patch/123450

_Testing PASS_

Submitter: Chaoyong He <chaoyong.he at corigine.com>
Date: Wednesday, February 08 2023 09:23:50 
DPDK git baseline: Repo:dpdk
  Branch: master
  CommitID:a0c837ad1fb5b6a8b10a284ffeb5f9e31bd8ff00

123450 --> testing pass

Test environment and result as below:

+-------------------------------+----------------+
|          Environment          | dpdk_unit_test |
+===============================+================+
| Ubuntu 20.04 ARM Clang Native | PASS           |
+-------------------------------+----------------+
| Ubuntu 20.04 ARM GCC Native   | PASS           |
+-------------------------------+----------------+
| Windows Server 2019           | PASS           |
+-------------------------------+----------------+
| Ubuntu 22.04                  | PASS           |
+-------------------------------+----------------+


Ubuntu 20.04 ARM Clang Native
	Kernel: 5.4.0-53-generic
	Compiler: clang 10.0.0-4ubuntu1

Ubuntu 20.04 ARM GCC Native
	Kernel: 5.4.0-53-generic
	Compiler: gcc 9.3

Windows Server 2019
	Kernel: 10.0
	Compiler: clang 14.0 and gcc 8.1.0 (MinGW)

Ubuntu 22.04
	Kernel: Container Host Kernel
	Compiler: gcc 11.3.1-2

To view detailed results, visit:
https://lab.dpdk.org/results/dashboard/patchsets/25291/

UNH-IOL DPDK Community Lab

To manage your email subscriptions, visit: 
https://lab.dpdk.org/results/dashboard/preferences/subscriptions/


More information about the test-report mailing list