|SUCCESS| [GIT MASTER] a0c837ad1fb5b6a8b10a284ffeb5f9e31bd8ff00

dpdklab at iol.unh.edu dpdklab at iol.unh.edu
Fri Feb 10 19:46:24 CET 2023


_Testing PASS_

Branch: dpdk

a0c837ad1fb5b6a8b10a284ffeb5f9e31bd8ff00 --> testing pass

Test environment and result as below:

+-----------------+----------------------------------+
|   Environment   | dpdk_kmod_compile_torvalds_linux |
+=================+==================================+
| Debian Bullseye | PASS                             |
+-----------------+----------------------------------+
| Debian Buster   | PASS                             |
+-----------------+----------------------------------+
| CentOS Stream 9 | PASS                             |
+-----------------+----------------------------------+
| Ubuntu 22.04    | PASS                             |
+-----------------+----------------------------------+
| Ubuntu 20.04    | PASS                             |
+-----------------+----------------------------------+


Debian Bullseye
	Kernel: 5.4.0-122-generic
	Compiler: gcc 10.2.1-6

Debian Buster
	Kernel: 5.4.0-122-generic
	Compiler: gcc 8.3.0-6

CentOS Stream 9
	Kernel: 4.18.0-240.10.1.el8_3.x86_64
	Compiler: gcc 11.3.1 20220421

Ubuntu 22.04
	Kernel: Container Host Kernel
	Compiler: clang 14.0.5-1.fc36

Ubuntu 20.04
	Kernel: 4.18.0-240.10.1.el8_3.x86_64
	Compiler: gcc 9.3.0-17ubuntu1~20.04

To view detailed results, visit:
https://lab.dpdk.org/results/dashboard/tarballs/23209/

UNH-IOL DPDK Community Lab

To manage your email subscriptions, visit: 
https://lab.dpdk.org/results/dashboard/preferences/subscriptions/


More information about the test-report mailing list