|SUCCESS| [GIT MASTER] 39d469a7eb4f157923be73aea0b0cc1015860ca7

dpdklab at iol.unh.edu dpdklab at iol.unh.edu
Sat Feb 11 02:54:49 CET 2023


_Testing PASS_

Branch: dpdk

39d469a7eb4f157923be73aea0b0cc1015860ca7 --> testing pass

Test environment and result as below:

+------------------+----------------------------------+
|   Environment    | dpdk_kmod_compile_torvalds_linux |
+==================+==================================+
| Ubuntu 22.04     | PASS                             |
+------------------+----------------------------------+
| openSUSE Leap 15 | PASS                             |
+------------------+----------------------------------+
| RHEL8            | PASS                             |
+------------------+----------------------------------+
| Ubuntu 20.04     | PASS                             |
+------------------+----------------------------------+


Ubuntu 22.04
	Kernel: 4.18.0-240.10.1.el8_3.x86_64
	Compiler: gcc 11.3.0

openSUSE Leap 15
	Kernel: 4.18.0-240.10.1.el8_3.x86_64
	Compiler: gcc 7.5.0

RHEL8
	Kernel: 4.18.0-240.10.1.el8_3.x86_64
	Compiler: gcc 8.3.1 20191121 (Red Hat 8.3.1-5)

Ubuntu 20.04
	Kernel: 4.18.0-240.10.1.el8_3.x86_64
	Compiler: gcc 9.3.0-17ubuntu1~20.04

To view detailed results, visit:
https://lab.dpdk.org/results/dashboard/tarballs/23280/

UNH-IOL DPDK Community Lab

To manage your email subscriptions, visit: 
https://lab.dpdk.org/results/dashboard/preferences/subscriptions/


More information about the test-report mailing list