|SUCCESS| pw123735 [PATCH] [v2] ethdev: telemetry xstats support hide zero

dpdklab at iol.unh.edu dpdklab at iol.unh.edu
Mon Feb 13 12:13:25 CET 2023


Test-Label: iol-testing
Test-Status: SUCCESS
http://dpdk.org/patch/123735

_Testing PASS_

Submitter: fengchengwen <fengchengwen at huawei.com>
Date: Monday, February 13 2023 02:34:56 
DPDK git baseline: Repo:dpdk
  Branch: master
  CommitID:39d469a7eb4f157923be73aea0b0cc1015860ca7

123735 --> testing pass

Test environment and result as below:

+----------------------------------------+--------------------+----------------+
|              Environment               | dpdk_meson_compile | dpdk_unit_test |
+========================================+====================+================+
| Ubuntu 20.04 ARM Clang Native          | PASS               | PASS           |
+----------------------------------------+--------------------+----------------+
| Ubuntu 20.04 ARM GCC Native            | PASS               | PASS           |
+----------------------------------------+--------------------+----------------+
| Ubuntu 20.04 aarch32 GCC Cross Compile | PASS               | SKIPPED        |
+----------------------------------------+--------------------+----------------+
| Ubuntu 20.04 ARM Clang Cross Compile   | PASS               | SKIPPED        |
+----------------------------------------+--------------------+----------------+
| Ubuntu 20.04 ARM GCC Cross Compile     | PASS               | SKIPPED        |
+----------------------------------------+--------------------+----------------+
| Ubuntu 20.04 ARM SVE                   | PASS               | SKIPPED        |
+----------------------------------------+--------------------+----------------+
| Windows Server 2019                    | SKIPPED            | PASS           |
+----------------------------------------+--------------------+----------------+
| RHEL 7                                 | SKIPPED            | PASS           |
+----------------------------------------+--------------------+----------------+
| openSUSE Leap 15                       | SKIPPED            | PASS           |
+----------------------------------------+--------------------+----------------+
| Ubuntu 22.04                           | SKIPPED            | PASS           |
+----------------------------------------+--------------------+----------------+


Ubuntu 20.04 ARM Clang Native
	Kernel: 5.4.0-53-generic
	Compiler: clang 10.0.0-4ubuntu1

Ubuntu 20.04 ARM GCC Native
	Kernel: 5.4.0-53-generic
	Compiler: gcc 9.3

Ubuntu 20.04 aarch32 GCC Cross Compile
	Kernel: 5.4.0-72-generic
	Compiler: gcc 9.3.0

Ubuntu 20.04 ARM Clang Cross Compile
	Kernel: 5.4.0-72-generic
	Compiler: clang version 10.0.0-4ubuntu1

Ubuntu 20.04 ARM GCC Cross Compile
	Kernel: 5.4.0-72-generic
	Compiler: aarch64-linux-gnu-gcc (Ubuntu 9.3.0-17ubuntu1~20.04) 9.3.0

Ubuntu 20.04 ARM SVE
	Kernel: 5.4.0-80-generic
	Compiler: gcc 10.3.0 (Ubuntu 10.3.0-1ubuntu1~20.04)

Windows Server 2019
	Kernel: 10.0
	Compiler: clang 14.0 and gcc 8.1.0 (MinGW)

RHEL 7
	Kernel: 4.18.0-240.10.1.el8_3.x86_64
	Compiler: gcc 4.8.5 20150623 (Red Hat 4.8.5-44)

openSUSE Leap 15
	Kernel: 4.18.0-240.10.1.el8_3.x86_64
	Compiler: gcc 7.5.0

Ubuntu 22.04
	Kernel: Container Host Kernel
	Compiler: clang 14.0.5-1.fc36

To view detailed results, visit:
https://lab.dpdk.org/results/dashboard/patchsets/25362/

UNH-IOL DPDK Community Lab

To manage your email subscriptions, visit: 
https://lab.dpdk.org/results/dashboard/preferences/subscriptions/


More information about the test-report mailing list