|SUCCESS| pw123807-123810 [PATCH] [4/4] doc: update Release Notes

dpdklab at iol.unh.edu dpdklab at iol.unh.edu
Mon Feb 13 19:42:09 CET 2023


Test-Label: iol-aarch64-unit-testing
Test-Status: SUCCESS
http://dpdk.org/patch/123810

_Testing PASS_

Submitter: Shepard Siegel <shepard.siegel at atomicrules.com>
Date: Monday, February 13 2023 14:58:24 
DPDK git baseline: Repo:dpdk
  Branch: master
  CommitID:39d469a7eb4f157923be73aea0b0cc1015860ca7

123807-123810 --> testing pass

Test environment and result as below:

+-------------------------------+---------------------------+------------------------------+----------------+--------------+
|          Environment          | cryptodev_sw_zuc_autotest | cryptodev_sw_snow3g_autotest | dpdk_unit_test | lpm_autotest |
+===============================+===========================+==============================+================+==============+
| Debian 11                     | PASS                      | PASS                         | SKIPPED        | SKIPPED      |
+-------------------------------+---------------------------+------------------------------+----------------+--------------+
| Ubuntu 20.04 ARM GCC Native   | SKIPPED                   | SKIPPED                      | PASS           | SKIPPED      |
+-------------------------------+---------------------------+------------------------------+----------------+--------------+
| Ubuntu 20.04 ARM Clang Native | SKIPPED                   | SKIPPED                      | PASS           | SKIPPED      |
+-------------------------------+---------------------------+------------------------------+----------------+--------------+
| Ubuntu 20.04 ARM SVE          | SKIPPED                   | SKIPPED                      | SKIPPED        | PASS         |
+-------------------------------+---------------------------+------------------------------+----------------+--------------+


Debian 11
	Kernel: Container Host Kernel
	Compiler: gcc 10.2.1

Ubuntu 20.04 ARM GCC Native
	Kernel: 5.4.0-53-generic
	Compiler: gcc 9.3

Ubuntu 20.04 ARM Clang Native
	Kernel: 5.4.0-53-generic
	Compiler: clang 10.0.0-4ubuntu1

Ubuntu 20.04 ARM SVE
	Kernel: 5.4.0-80-generic
	Compiler: gcc 10.3.0 (Ubuntu 10.3.0-1ubuntu1~20.04)

To view detailed results, visit:
https://lab.dpdk.org/results/dashboard/patchsets/25379/

UNH-IOL DPDK Community Lab

To manage your email subscriptions, visit: 
https://lab.dpdk.org/results/dashboard/preferences/subscriptions/


More information about the test-report mailing list