|SUCCESS| [GIT MASTER] 44fe1187305af8ac6d31c46113c1ca35405de77b
dpdklab at iol.unh.edu
dpdklab at iol.unh.edu
Mon Feb 13 20:25:27 CET 2023
_Testing PASS_
Branch: dpdk-next-eventdev
44fe1187305af8ac6d31c46113c1ca35405de77b --> testing pass
Test environment and result as below:
+-------------------------------+----------------+--------------------+
| Environment | dpdk_unit_test | dpdk_meson_compile |
+===============================+================+====================+
| Ubuntu 20.04 ARM GCC Native | PASS | PASS |
+-------------------------------+----------------+--------------------+
| Ubuntu 20.04 ARM Clang Native | PASS | PASS |
+-------------------------------+----------------+--------------------+
| Windows Server 2019 | PASS | SKIPPED |
+-------------------------------+----------------+--------------------+
| RHEL 7 | PASS | SKIPPED |
+-------------------------------+----------------+--------------------+
| Ubuntu 20.04 | PASS | SKIPPED |
+-------------------------------+----------------+--------------------+
| Ubuntu 22.04 | PASS | SKIPPED |
+-------------------------------+----------------+--------------------+
Ubuntu 20.04 ARM GCC Native
Kernel: 5.4.0-53-generic
Compiler: gcc 9.3
Ubuntu 20.04 ARM Clang Native
Kernel: 5.4.0-53-generic
Compiler: clang 10.0.0-4ubuntu1
Windows Server 2019
Kernel: 10.0
Compiler: clang 14.0 and gcc 8.1.0 (MinGW)
RHEL 7
Kernel: 4.18.0-240.10.1.el8_3.x86_64
Compiler: gcc 4.8.5 20150623 (Red Hat 4.8.5-44)
Ubuntu 20.04
Kernel: 4.18.0-240.10.1.el8_3.x86_64
Compiler: gcc 9.3.0-17ubuntu1~20.04
Ubuntu 22.04
Kernel: Container Host Kernel
Compiler: clang 14.0.5-1.fc36
To view detailed results, visit:
https://lab.dpdk.org/results/dashboard/tarballs/23300/
UNH-IOL DPDK Community Lab
To manage your email subscriptions, visit:
https://lab.dpdk.org/results/dashboard/preferences/subscriptions/
More information about the test-report
mailing list